Workbook
Name Sheets: Projects!$B$3:$B$6

Sheet Settings
D2: Surcharge
B3: Hourly costs | C3: 150
B4: Hourly revenue | C4: =+C3*1.03 -> 154.5 | D4: =+C4/C3-1 -> 0.03
B6: Material overhead costs | C6: 0.03
B7: Material overhead revenue | C7: 0.05 | D7: =+(C7-C6)/(1+C7) -> 0.019047619

Sheet Projects
B2: Project | C2: Progress | D2: Planned Start | E2: Planned End | F2: FC Start | G2: FC End | H2: Actual Start | I2: Actual End | J2: Planned Hours | K2: FC Hours | L2: Actual Hours | M2: Planned Costs | N2: FC Costs | O2: Actual Costs | P2: Planned Revenue | Q2: FC Revenue | R2: Actual Revenue | S2: Planned Profit | T2: FC Profic | U2: Actual Profit
B3: Project 1 | C3: {=+INDIRECT("'"&$B3&"'!C6")} -> 0 | D3: {=+INDIRECT("'"&$B3&"'!C11")} -> 44958 | E3: {=+INDIRECT("'"&$B3&"'!C12")} -> 0 | F3: {=+INDIRECT("'"&$B3&"'!E11")} -> 0 | G3: {=+INDIRECT("'"&$B3&"'!E12")} -> 0 | H3: {=+INDIRECT("'"&$B3&"'!G11")} -> 0 | I3: {=+INDIRECT("'"&$B3&"'!G12")} -> 0 | J3: {=+INDIRECT("'"&$B3&"'!C13")} -> 0 | K3: {=+INDIRECT("'"&$B3&"'!E13")} -> 0 | L3: {=+INDIRECT("'"&$B3&"'!G13")} -> 0 | M3: {=+INDIRECT("'"&$B3&"'!C14")} -> 0 | N3: {=+INDIRECT("'"&$B3&"'!E14")} -> 0 | O3: {=+INDIRECT("'"&$B3&"'!G14")} -> 0 | P3: {=+INDIRECT("'"&$B3&"'!C15")} -> 0 | Q3: {=+INDIRECT("'"&$B3&"'!E15")} -> 0 | R3: {=+INDIRECT("'"&$B3&"'!G15")} -> 0 | S3: {=+INDIRECT("'"&$B3&"'!C9")} -> 0 | T3: {=+INDIRECT("'"&$B3&"'!E9")} -> 0 | U3: {=+INDIRECT("'"&$B3&"'!G9")} -> 0
B4: Project 2 | C4: {=+INDIRECT("'"&$B4&"'!C6")} -> 0 | D4: {=+INDIRECT("'"&$B4&"'!C11")} -> 44958 | E4: {=+INDIRECT("'"&$B4&"'!C12")} -> 0 | F4: {=+INDIRECT("'"&$B4&"'!E11")} -> 0 | G4: {=+INDIRECT("'"&$B4&"'!E12")} -> 0 | H4: {=+INDIRECT("'"&$B4&"'!G11")} -> 0 | I4: {=+INDIRECT("'"&$B4&"'!G12")} -> 0 | J4: {=+INDIRECT("'"&$B4&"'!C13")} -> 0 | K4: {=+INDIRECT("'"&$B4&"'!E13")} -> 0 | L4: {=+INDIRECT("'"&$B4&"'!G13")} -> 0 | M4: {=+INDIRECT("'"&$B4&"'!C14")} -> 0 | N4: {=+INDIRECT("'"&$B4&"'!E14")} -> 0 | O4: {=+INDIRECT("'"&$B4&"'!G14")} -> 0 | P4: {=+INDIRECT("'"&$B4&"'!C15")} -> 0 | Q4: {=+INDIRECT("'"&$B4&"'!E15")} -> 0 | R4: {=+INDIRECT("'"&$B4&"'!G15")} -> 0 | S4: {=+INDIRECT("'"&$B4&"'!C9")} -> 0 | T4: {=+INDIRECT("'"&$B4&"'!E9")} -> 0 | U4: {=+INDIRECT("'"&$B4&"'!G9")} -> 0
B5: Project 3 | C5: {=+INDIRECT("'"&$B5&"'!C6")} -> 0 | D5: {=+INDIRECT("'"&$B5&"'!C11")} -> 44958 | E5: {=+INDIRECT("'"&$B5&"'!C12")} -> 0 | F5: {=+INDIRECT("'"&$B5&"'!E11")} -> 0 | G5: {=+INDIRECT("'"&$B5&"'!E12")} -> 0 | H5: {=+INDIRECT("'"&$B5&"'!G11")} -> 0 | I5: {=+INDIRECT("'"&$B5&"'!G12")} -> 0 | J5: {=+INDIRECT("'"&$B5&"'!C13")} -> 0 | K5: {=+INDIRECT("'"&$B5&"'!E13")} -> 0 | L5: {=+INDIRECT("'"&$B5&"'!G13")} -> 0 | M5: {=+INDIRECT("'"&$B5&"'!C14")} -> 0 | N5: {=+INDIRECT("'"&$B5&"'!E14")} -> 0 | O5: {=+INDIRECT("'"&$B5&"'!G14")} -> 0 | P5: {=+INDIRECT("'"&$B5&"'!C15")} -> 0 | Q5: {=+INDIRECT("'"&$B5&"'!E15")} -> 0 | R5: {=+INDIRECT("'"&$B5&"'!G15")} -> 0 | S5: {=+INDIRECT("'"&$B5&"'!C9")} -> 0 | T5: {=+INDIRECT("'"&$B5&"'!E9")} -> 0 | U5: {=+INDIRECT("'"&$B5&"'!G9")} -> 0
B6: Project 4 | C6: {=+INDIRECT("'"&$B6&"'!C6")} -> 0 | D6: {=+INDIRECT("'"&$B6&"'!C11")} -> 44958 | E6: {=+INDIRECT("'"&$B6&"'!C12")} -> 0 | F6: {=+INDIRECT("'"&$B6&"'!E11")} -> 0 | G6: {=+INDIRECT("'"&$B6&"'!E12")} -> 0 | H6: {=+INDIRECT("'"&$B6&"'!G11")} -> 0 | I6: {=+INDIRECT("'"&$B6&"'!G12")} -> 0 | J6: {=+INDIRECT("'"&$B6&"'!C13")} -> 0 | K6: {=+INDIRECT("'"&$B6&"'!E13")} -> 0 | L6: {=+INDIRECT("'"&$B6&"'!G13")} -> 0 | M6: {=+INDIRECT("'"&$B6&"'!C14")} -> 0 | N6: {=+INDIRECT("'"&$B6&"'!E14")} -> 0 | O6: {=+INDIRECT("'"&$B6&"'!G14")} -> 0 | P6: {=+INDIRECT("'"&$B6&"'!C15")} -> 0 | Q6: {=+INDIRECT("'"&$B6&"'!E15")} -> 0 | R6: {=+INDIRECT("'"&$B6&"'!G15")} -> 0 | S6: {=+INDIRECT("'"&$B6&"'!C9")} -> 0 | T6: {=+INDIRECT("'"&$B6&"'!E9")} -> 0 | U6: {=+INDIRECT("'"&$B6&"'!G9")} -> 0

Sheet People
B2: Person | C2: Available Hours | D2: Planned Hours | E2: FC Hours | F2: Actual Hours | H2: B Utilization | I2: A Utilization | K2: Error
B3: Name 1 | C3: =+(250-30-10)*8 -> 1680 | D3: {=SUMPRODUCT(SUMIF(INDIRECT("'"&Sheets&"'!"&"C18:C1000"),$B3,INDIRECT("'"&Sheets&"'!J18:J1000")))} -> 0 | E3: {=SUMPRODUCT(SUMIF(INDIRECT("'"&Sheets&"'!"&"C18:C1000"),$B3,INDIRECT("'"&Sheets&"'!K18:K1000")))} -> 0 | F3: {=SUMPRODUCT(SUMIF(INDIRECT("'"&Sheets&"'!"&"C18:C1000"),$B3,INDIRECT("'"&Sheets&"'!L18:L1000")))} -> 0 | H3: =+D3/C3 -> 0 | I3: =+F3/C3 -> 0 | K3: =+IF(OR(D3>C3,E3>C3,F3>C3),0,1) -> 1
B4: Name 2 | C4: =+(250-30-10)*8 -> 1680 | D4: {=SUMPRODUCT(SUMIF(INDIRECT("'"&Sheets&"'!"&"C18:C1000"),$B4,INDIRECT("'"&Sheets&"'!J18:J1000")))} -> 0 | E4: {=SUMPRODUCT(SUMIF(INDIRECT("'"&Sheets&"'!"&"C18:C1000"),$B4,INDIRECT("'"&Sheets&"'!K18:K1000")))} -> 0 | F4: {=SUMPRODUCT(SUMIF(INDIRECT("'"&Sheets&"'!"&"C18:C1000"),$B4,INDIRECT("'"&Sheets&"'!L18:L1000")))} -> 0 | H4: =+D4/C4 -> 0 | I4: =+F4/C4 -> 0 | K4: =+IF(OR(D4>C4,E4>C4,F4>C4),0,1) -> 1
B5: Name 3 | C5: =+(250-30-10)*8 -> 1680 | D5: {=SUMPRODUCT(SUMIF(INDIRECT("'"&Sheets&"'!"&"C18:C1000"),$B5,INDIRECT("'"&Sheets&"'!J18:J1000")))} -> 0 | E5: {=SUMPRODUCT(SUMIF(INDIRECT("'"&Sheets&"'!"&"C18:C1000"),$B5,INDIRECT("'"&Sheets&"'!K18:K1000")))} -> 0 | F5: {=SUMPRODUCT(SUMIF(INDIRECT("'"&Sheets&"'!"&"C18:C1000"),$B5,INDIRECT("'"&Sheets&"'!L18:L1000")))} -> 0 | H5: =+D5/C5 -> 0 | I5: =+F5/C5 -> 0 | K5: =+IF(OR(D5>C5,E5>C5,F5>C5),0,1) -> 1
B6: Name 4 | C6: =+(250-30-10)*8 -> 1680 | D6: {=SUMPRODUCT(SUMIF(INDIRECT("'"&Sheets&"'!"&"C18:C1000"),$B6,INDIRECT("'"&Sheets&"'!J18:J1000")))} -> 0 | E6: {=SUMPRODUCT(SUMIF(INDIRECT("'"&Sheets&"'!"&"C18:C1000"),$B6,INDIRECT("'"&Sheets&"'!K18:K1000")))} -> 0 | F6: {=SUMPRODUCT(SUMIF(INDIRECT("'"&Sheets&"'!"&"C18:C1000"),$B6,INDIRECT("'"&Sheets&"'!L18:L1000")))} -> 0 | H6: =+D6/C6 -> 0 | I6: =+F6/C6 -> 0 | K6: =+IF(OR(D6>C6,E6>C6,F6>C6),0,1) -> 1
B7: Name 5 | C7: =+(250-30-10)*8 -> 1680 | D7: {=SUMPRODUCT(SUMIF(INDIRECT("'"&Sheets&"'!"&"C18:C1000"),$B7,INDIRECT("'"&Sheets&"'!J18:J1000")))} -> 0 | E7: {=SUMPRODUCT(SUMIF(INDIRECT("'"&Sheets&"'!"&"C18:C1000"),$B7,INDIRECT("'"&Sheets&"'!K18:K1000")))} -> 0 | F7: {=SUMPRODUCT(SUMIF(INDIRECT("'"&Sheets&"'!"&"C18:C1000"),$B7,INDIRECT("'"&Sheets&"'!L18:L1000")))} -> 0 | H7: =+D7/C7 -> 0 | I7: =+F7/C7 -> 0 | K7: =+IF(OR(D7>C7,E7>C7,F7>C7),0,1) -> 1
B8: Name 6 | C8: =+(250-30-10)*8 -> 1680 | D8: {=SUMPRODUCT(SUMIF(INDIRECT("'"&Sheets&"'!"&"C18:C1000"),$B8,INDIRECT("'"&Sheets&"'!J18:J1000")))} -> 0 | E8: {=SUMPRODUCT(SUMIF(INDIRECT("'"&Sheets&"'!"&"C18:C1000"),$B8,INDIRECT("'"&Sheets&"'!K18:K1000")))} -> 0 | F8: {=SUMPRODUCT(SUMIF(INDIRECT("'"&Sheets&"'!"&"C18:C1000"),$B8,INDIRECT("'"&Sheets&"'!L18:L1000")))} -> 0 | H8: =+D8/C8 -> 0 | I8: =+F8/C8 -> 0 | K8: =+IF(OR(D8>C8,E8>C8,F8>C8),0,1) -> 1
B9: Name 7 | C9: =+(250-30-10)*8 -> 1680 | D9: {=SUMPRODUCT(SUMIF(INDIRECT("'"&Sheets&"'!"&"C18:C1000"),$B9,INDIRECT("'"&Sheets&"'!J18:J1000")))} -> 0 | E9: {=SUMPRODUCT(SUMIF(INDIRECT("'"&Sheets&"'!"&"C18:C1000"),$B9,INDIRECT("'"&Sheets&"'!K18:K1000")))} -> 0 | F9: {=SUMPRODUCT(SUMIF(INDIRECT("'"&Sheets&"'!"&"C18:C1000"),$B9,INDIRECT("'"&Sheets&"'!L18:L1000")))} -> 0 | H9: =+D9/C9 -> 0 | I9: =+F9/C9 -> 0 | K9: =+IF(OR(D9>C9,E9>C9,F9>C9),0,1) -> 1
B10: Name 8 | C10: =+(250-30-10)*8 -> 1680 | D10: {=SUMPRODUCT(SUMIF(INDIRECT("'"&Sheets&"'!"&"C18:C1000"),$B10,INDIRECT("'"&Sheets&"'!J18:J1000")))} -> 0 | E10: {=SUMPRODUCT(SUMIF(INDIRECT("'"&Sheets&"'!"&"C18:C1000"),$B10,INDIRECT("'"&Sheets&"'!K18:K1000")))} -> 0 | F10: {=SUMPRODUCT(SUMIF(INDIRECT("'"&Sheets&"'!"&"C18:C1000"),$B10,INDIRECT("'"&Sheets&"'!L18:L1000")))} -> 0 | H10: =+D10/C10 -> 0 | I10: =+F10/C10 -> 0 | K10: =+IF(OR(D10>C10,E10>C10,F10>C10),0,1) -> 1
B11: Name 9 | C11: =+(250-30-10)*8 -> 1680 | D11: {=SUMPRODUCT(SUMIF(INDIRECT("'"&Sheets&"'!"&"C18:C1000"),$B11,INDIRECT("'"&Sheets&"'!J18:J1000")))} -> 0 | E11: {=SUMPRODUCT(SUMIF(INDIRECT("'"&Sheets&"'!"&"C18:C1000"),$B11,INDIRECT("'"&Sheets&"'!K18:K1000")))} -> 0 | F11: {=SUMPRODUCT(SUMIF(INDIRECT("'"&Sheets&"'!"&"C18:C1000"),$B11,INDIRECT("'"&Sheets&"'!L18:L1000")))} -> 0 | H11: =+D11/C11 -> 0 | I11: =+F11/C11 -> 0 | K11: =+IF(OR(D11>C11,E11>C11,F11>C11),0,1) -> 1
B12: Name 10 | C12: =+(250-30-10)*8 -> 1680 | D12: {=SUMPRODUCT(SUMIF(INDIRECT("'"&Sheets&"'!"&"C18:C1000"),$B12,INDIRECT("'"&Sheets&"'!J18:J1000")))} -> 0 | E12: {=SUMPRODUCT(SUMIF(INDIRECT("'"&Sheets&"'!"&"C18:C1000"),$B12,INDIRECT("'"&Sheets&"'!K18:K1000")))} -> 0 | F12: {=SUMPRODUCT(SUMIF(INDIRECT("'"&Sheets&"'!"&"C18:C1000"),$B12,INDIRECT("'"&Sheets&"'!L18:L1000")))} -> 0 | H12: =+D12/C12 -> 0 | I12: =+F12/C12 -> 0 | K12: =+IF(OR(D12>C12,E12>C12,F12>C12),0,1) -> 1

Sheet Project 1
B2: Name
B3: Description
B4: Responsible
B5: Receiver
B6: Progress
B7: Status
B9: Planned Profit | C9: =+C15-C14 -> 0 | D9: FC Profit | E9: =+E15-E14 -> 0 | F9: Actual Profi | G9: =+G15-G14 -> 0
B11: Planned Start | C11: =+D19 -> 44958 | D11: FC Start | E11: =+F19 -> 0 | F11: Actual Start | G11: =+H19 -> 0
B12: Planned End | C12: =+E41 -> 0 | D12: FC End | E12: =+G41 -> 0 | F12: Actual End | G12: =+I41 -> 0
B13: Planned Hours | C13: =+J19+J28+J34+J41 -> 0 | D13: FC Hours | E13: =+K19+K28+K34+K41 -> 0 | F13: Actual Hours | G13: =+L19+L28+L34+L41 -> 0
B14: Planned Costs | C14: =+(M19+M28+M34+M41)*(1+Settings!$C$6)+C13*Settings!$C$3 -> 0 | D14: FC Costs | E14: =+(N19+N28+N34+N41)*(1+Settings!$C$6)+E13*Settings!$C$3 -> 0 | F14: Actual Costs | G14: =+(O19+O28+O34+O41)*(1+Settings!$C$7)+E13*Settings!$C$3 -> 0
B15: Planned Revenue | C15: =+(P19+P28+P34+P41)*(1+Settings!$C$7)+C13*Settings!$C$4 -> 0 | D15: FC Revenue | E15: =+(Q19+Q28+Q34+Q41)*(1+Settings!$C$7)+E13*Settings!$C$4 -> 0 | F15: Actual Revenue | G15: =+(R19+R28+R34+R41)*(1+Settings!$C$7)+G13*Settings!$C$4 -> 0
B17: Milestone/Task | C17: Responsible | D17: B Start | E17: B End | F17: FC Start | G17: FC End | H17: A Start | I17: A End | J17: B Hours | K17: FC Hours | L17: A Hours | M17: B Costs | N17: FC Costs | O17: A Costs | P17: B Revenue | Q17: FC Revenue | R17: A Revenue | T17: W1 | U17: W2 | V17: W3 | W17: W4 | X17: W5 | Y17: W6 | Z17: W7 | AA17: W8 | AB17: W9 | AC17: W10 | AD17: W11 | AE17: W12 | AF17: W13 | AG17: W14 | AH17: W15 | AI17: W16 | AJ17: W17 | AK17: W18 | AL17: W19 | AM17: W20 | AN17: W21 | AO17: W22 | AP17: W23 | AQ17: W24 | AR17: W25 | AS17: W26 | AT17: W27 | AU17: W28 | AV17: W29 | AW17: W30 | AX17: W31 | AY17: W32 | AZ17: W33 | BA17: W34 | BB17: W35 | BC17: W36 | BD17: W37 | BE17: W38 | BF17: W39 | BG17: W40 | BH17: W41 | BI17: W42 | BJ17: W43 | BK17: W44 | BL17: W45 | BM17: W46 | BN17: W47 | BO17: W48 | BP17: W49 | BQ17: W50 | BR17: W51 | BS17: W52 | BT17: W53 | BU17: W54
B19: Milestone 1 | D19: 44958 | J19: =+SUM(J20:J27) -> 0 | K19: =+SUM(K20:K27) -> 0 | L19: =+SUM(L20:L27) -> 0 | M19: =+SUM(M20:M27) -> 0 | N19: =+SUM(N20:N27) -> 0 | O19: =+SUM(O20:O27) -> 0 | P19: =+SUM(P20:P27) -> 0 | Q19: =+SUM(Q20:Q27) -> 0 | R19: =+SUM(R20:R27) -> 0
B20: Task 1
B21: Task 2
B22: Task 3
B23: Task 4
B24: Task 5
B25: Task 6
B26: Task 7
B28: Milestone 2 | J28: =+SUM(J29:J33) -> 0 | K28: =+SUM(K29:K33) -> 0 | L28: =+SUM(L29:L33) -> 0 | M28: =+SUM(M29:M33) -> 0 | N28: =+SUM(N29:N33) -> 0 | O28: =+SUM(O29:O33) -> 0 | P28: =+SUM(P29:P33) -> 0 | Q28: =+SUM(Q29:Q33) -> 0 | R28: =+SUM(R29:R33) -> 0
B29: Task 1
B30: Task 2
B31: Task 3
B32: Task 4
B34: Milestone 3 | J34: =+SUM(J35:J40) -> 0 | K34: =+SUM(K35:K40) -> 0 | L34: =+SUM(L35:L40) -> 0 | M34: =+SUM(M35:M40) -> 0 | N34: =+SUM(N35:N40) -> 0 | O34: =+SUM(O35:O40) -> 0 | P34: =+SUM(P35:P40) -> 0 | Q34: =+SUM(Q35:Q40) -> 0 | R34: =+SUM(R35:R40) -> 0
B35: Task 1
B36: Task 2
B37: Task 3
B38: Task 4
B39: Task 5
B41: Milestone 3 | J41: =+SUM(J42:J47) -> 0 | K41: =+SUM(K42:K47) -> 0 | L41: =+SUM(L42:L47) -> 0 | M41: =+SUM(M42:M47) -> 0 | N41: =+SUM(N42:N47) -> 0 | O41: =+SUM(O42:O47) -> 0 | P41: =+SUM(P42:P47) -> 0 | Q41: =+SUM(Q42:Q47) -> 0 | R41: =+SUM(R42:R47) -> 0
B42: Task 1
B43: Task 2
B44: Task 3
B45: Task 4
B46: Task 5

Sheet Project 2
B2: Name
B3: Description
B4: Responsible
B5: Receiver
B6: Progress
B7: Status
B9: Planned Profit | C9: =+C15-C14 -> 0 | D9: FC Profit | E9: =+E15-E14 -> 0 | F9: Actual Profi | G9: =+G15-G14 -> 0
B11: Planned Start | C11: =+D19 -> 44958 | D11: FC Start | E11: =+F19 -> 0 | F11: Actual Start | G11: =+H19 -> 0
B12: Planned End | C12: =+E41 -> 0 | D12: FC End | E12: =+G41 -> 0 | F12: Actual End | G12: =+I41 -> 0
B13: Planned Hours | C13: =+J19+J28+J34+J41 -> 0 | D13: FC Hours | E13: =+K19+K28+K34+K41 -> 0 | F13: Actual Hours | G13: =+L19+L28+L34+L41 -> 0
B14: Planned Costs | C14: =+(M19+M28+M34+M41)*(1+Settings!$C$6)+C13*Settings!$C$3 -> 0 | D14: FC Costs | E14: =+(N19+N28+N34+N41)*(1+Settings!$C$6)+E13*Settings!$C$3 -> 0 | F14: Actual Costs | G14: =+(O19+O28+O34+O41)*(1+Settings!$C$7)+E13*Settings!$C$3 -> 0
B15: Planned Revenue | C15: =+(P19+P28+P34+P41)*(1+Settings!$C$7)+C13*Settings!$C$4 -> 0 | D15: FC Revenue | E15: =+(Q19+Q28+Q34+Q41)*(1+Settings!$C$7)+E13*Settings!$C$4 -> 0 | F15: Actual Revenue | G15: =+(R19+R28+R34+R41)*(1+Settings!$C$7)+G13*Settings!$C$4 -> 0
B17: Milestone/Task | C17: Responsible | D17: B Start | E17: B End | F17: FC Start | G17: FC End | H17: A Start | I17: A End | J17: B Hours | K17: FC Hours | L17: A Hours | M17: B Costs | N17: FC Costs | O17: A Costs | P17: B Revenue | Q17: FC Revenue | R17: A Revenue | T17: W1 | U17: W2 | V17: W3 | W17: W4 | X17: W5 | Y17: W6 | Z17: W7 | AA17: W8 | AB17: W9 | AC17: W10 | AD17: W11 | AE17: W12 | AF17: W13 | AG17: W14 | AH17: W15 | AI17: W16 | AJ17: W17 | AK17: W18 | AL17: W19 | AM17: W20 | AN17: W21 | AO17: W22 | AP17: W23 | AQ17: W24 | AR17: W25 | AS17: W26 | AT17: W27 | AU17: W28 | AV17: W29 | AW17: W30 | AX17: W31 | AY17: W32 | AZ17: W33 | BA17: W34 | BB17: W35 | BC17: W36 | BD17: W37 | BE17: W38 | BF17: W39 | BG17: W40 | BH17: W41 | BI17: W42 | BJ17: W43 | BK17: W44 | BL17: W45 | BM17: W46 | BN17: W47 | BO17: W48 | BP17: W49 | BQ17: W50 | BR17: W51 | BS17: W52 | BT17: W53 | BU17: W54
B19: Milestone 1 | D19: 44958 | J19: =+SUM(J20:J27) -> 0 | K19: =+SUM(K20:K27) -> 0 | L19: =+SUM(L20:L27) -> 0 | M19: =+SUM(M20:M27) -> 0 | N19: =+SUM(N20:N27) -> 0 | O19: =+SUM(O20:O27) -> 0 | P19: =+SUM(P20:P27) -> 0 | Q19: =+SUM(Q20:Q27) -> 0 | R19: =+SUM(R20:R27) -> 0
B20: Task 1
B21: Task 2
B22: Task 3
B23: Task 4
B24: Task 5
B25: Task 6
B26: Task 7
B28: Milestone 2 | J28: =+SUM(J29:J33) -> 0 | K28: =+SUM(K29:K33) -> 0 | L28: =+SUM(L29:L33) -> 0 | M28: =+SUM(M29:M33) -> 0 | N28: =+SUM(N29:N33) -> 0 | O28: =+SUM(O29:O33) -> 0 | P28: =+SUM(P29:P33) -> 0 | Q28: =+SUM(Q29:Q33) -> 0 | R28: =+SUM(R29:R33) -> 0
B29: Task 1
B30: Task 2
B31: Task 3
B32: Task 4
B34: Milestone 3 | J34: =+SUM(J35:J40) -> 0 | K34: =+SUM(K35:K40) -> 0 | L34: =+SUM(L35:L40) -> 0 | M34: =+SUM(M35:M40) -> 0 | N34: =+SUM(N35:N40) -> 0 | O34: =+SUM(O35:O40) -> 0 | P34: =+SUM(P35:P40) -> 0 | Q34: =+SUM(Q35:Q40) -> 0 | R34: =+SUM(R35:R40) -> 0
B35: Task 1
B36: Task 2
B37: Task 3
B38: Task 4
B39: Task 5
B41: Milestone 3 | J41: =+SUM(J42:J47) -> 0 | K41: =+SUM(K42:K47) -> 0 | L41: =+SUM(L42:L47) -> 0 | M41: =+SUM(M42:M47) -> 0 | N41: =+SUM(N42:N47) -> 0 | O41: =+SUM(O42:O47) -> 0 | P41: =+SUM(P42:P47) -> 0 | Q41: =+SUM(Q42:Q47) -> 0 | R41: =+SUM(R42:R47) -> 0
B42: Task 1
B43: Task 2
B44: Task 3
B45: Task 4
B46: Task 5

Sheet Project 3
B2: Name
B3: Description
B4: Responsible
B5: Receiver
B6: Progress
B7: Status
B9: Planned Profit | C9: =+C15-C14 -> 0 | D9: FC Profit | E9: =+E15-E14 -> 0 | F9: Actual Profi | G9: =+G15-G14 -> 0
B11: Planned Start | C11: =+D19 -> 44958 | D11: FC Start | E11: =+F19 -> 0 | F11: Actual Start | G11: =+H19 -> 0
B12: Planned End | C12: =+E41 -> 0 | D12: FC End | E12: =+G41 -> 0 | F12: Actual End | G12: =+I41 -> 0
B13: Planned Hours | C13: =+J19+J28+J34+J41 -> 0 | D13: FC Hours | E13: =+K19+K28+K34+K41 -> 0 | F13: Actual Hours | G13: =+L19+L28+L34+L41 -> 0
B14: Planned Costs | C14: =+(M19+M28+M34+M41)*(1+Settings!$C$6)+C13*Settings!$C$3 -> 0 | D14: FC Costs | E14: =+(N19+N28+N34+N41)*(1+Settings!$C$6)+E13*Settings!$C$3 -> 0 | F14: Actual Costs | G14: =+(O19+O28+O34+O41)*(1+Settings!$C$7)+E13*Settings!$C$3 -> 0
B15: Planned Revenue | C15: =+(P19+P28+P34+P41)*(1+Settings!$C$7)+C13*Settings!$C$4 -> 0 | D15: FC Revenue | E15: =+(Q19+Q28+Q34+Q41)*(1+Settings!$C$7)+E13*Settings!$C$4 -> 0 | F15: Actual Revenue | G15: =+(R19+R28+R34+R41)*(1+Settings!$C$7)+G13*Settings!$C$4 -> 0
B17: Milestone/Task | C17: Responsible | D17: B Start | E17: B End | F17: FC Start | G17: FC End | H17: A Start | I17: A End | J17: B Hours | K17: FC Hours | L17: A Hours | M17: B Costs | N17: FC Costs | O17: A Costs | P17: B Revenue | Q17: FC Revenue | R17: A Revenue | T17: W1 | U17: W2 | V17: W3 | W17: W4 | X17: W5 | Y17: W6 | Z17: W7 | AA17: W8 | AB17: W9 | AC17: W10 | AD17: W11 | AE17: W12 | AF17: W13 | AG17: W14 | AH17: W15 | AI17: W16 | AJ17: W17 | AK17: W18 | AL17: W19 | AM17: W20 | AN17: W21 | AO17: W22 | AP17: W23 | AQ17: W24 | AR17: W25 | AS17: W26 | AT17: W27 | AU17: W28 | AV17: W29 | AW17: W30 | AX17: W31 | AY17: W32 | AZ17: W33 | BA17: W34 | BB17: W35 | BC17: W36 | BD17: W37 | BE17: W38 | BF17: W39 | BG17: W40 | BH17: W41 | BI17: W42 | BJ17: W43 | BK17: W44 | BL17: W45 | BM17: W46 | BN17: W47 | BO17: W48 | BP17: W49 | BQ17: W50 | BR17: W51 | BS17: W52 | BT17: W53 | BU17: W54
B19: Milestone 1 | D19: 44958 | J19: =+SUM(J20:J27) -> 0 | K19: =+SUM(K20:K27) -> 0 | L19: =+SUM(L20:L27) -> 0 | M19: =+SUM(M20:M27) -> 0 | N19: =+SUM(N20:N27) -> 0 | O19: =+SUM(O20:O27) -> 0 | P19: =+SUM(P20:P27) -> 0 | Q19: =+SUM(Q20:Q27) -> 0 | R19: =+SUM(R20:R27) -> 0
B20: Task 1
B21: Task 2
B22: Task 3
B23: Task 4
B24: Task 5
B25: Task 6
B26: Task 7
B28: Milestone 2 | J28: =+SUM(J29:J33) -> 0 | K28: =+SUM(K29:K33) -> 0 | L28: =+SUM(L29:L33) -> 0 | M28: =+SUM(M29:M33) -> 0 | N28: =+SUM(N29:N33) -> 0 | O28: =+SUM(O29:O33) -> 0 | P28: =+SUM(P29:P33) -> 0 | Q28: =+SUM(Q29:Q33) -> 0 | R28: =+SUM(R29:R33) -> 0
B29: Task 1
B30: Task 2
B31: Task 3
B32: Task 4
B34: Milestone 3 | J34: =+SUM(J35:J40) -> 0 | K34: =+SUM(K35:K40) -> 0 | L34: =+SUM(L35:L40) -> 0 | M34: =+SUM(M35:M40) -> 0 | N34: =+SUM(N35:N40) -> 0 | O34: =+SUM(O35:O40) -> 0 | P34: =+SUM(P35:P40) -> 0 | Q34: =+SUM(Q35:Q40) -> 0 | R34: =+SUM(R35:R40) -> 0
B35: Task 1
B36: Task 2
B37: Task 3
B38: Task 4
B39: Task 5
B41: Milestone 3 | J41: =+SUM(J42:J47) -> 0 | K41: =+SUM(K42:K47) -> 0 | L41: =+SUM(L42:L47) -> 0 | M41: =+SUM(M42:M47) -> 0 | N41: =+SUM(N42:N47) -> 0 | O41: =+SUM(O42:O47) -> 0 | P41: =+SUM(P42:P47) -> 0 | Q41: =+SUM(Q42:Q47) -> 0 | R41: =+SUM(R42:R47) -> 0
B42: Task 1
B43: Task 2
B44: Task 3
B45: Task 4
B46: Task 5

Sheet Project 4
B2: Name
B3: Description
B4: Responsible
B5: Receiver
B6: Progress
B7: Status
B9: Planned Profit | C9: =+C15-C14 -> 0 | D9: FC Profit | E9: =+E15-E14 -> 0 | F9: Actual Profi | G9: =+G15-G14 -> 0
B11: Planned Start | C11: =+D19 -> 44958 | D11: FC Start | E11: =+F19 -> 0 | F11: Actual Start | G11: =+H19 -> 0
B12: Planned End | C12: =+E41 -> 0 | D12: FC End | E12: =+G41 -> 0 | F12: Actual End | G12: =+I41 -> 0
B13: Planned Hours | C13: =+J19+J28+J34+J41 -> 0 | D13: FC Hours | E13: =+K19+K28+K34+K41 -> 0 | F13: Actual Hours | G13: =+L19+L28+L34+L41 -> 0
B14: Planned Costs | C14: =+(M19+M28+M34+M41)*(1+Settings!$C$6)+C13*Settings!$C$3 -> 0 | D14: FC Costs | E14: =+(N19+N28+N34+N41)*(1+Settings!$C$6)+E13*Settings!$C$3 -> 0 | F14: Actual Costs | G14: =+(O19+O28+O34+O41)*(1+Settings!$C$7)+E13*Settings!$C$3 -> 0
B15: Planned Revenue | C15: =+(P19+P28+P34+P41)*(1+Settings!$C$7)+C13*Settings!$C$4 -> 0 | D15: FC Revenue | E15: =+(Q19+Q28+Q34+Q41)*(1+Settings!$C$7)+E13*Settings!$C$4 -> 0 | F15: Actual Revenue | G15: =+(R19+R28+R34+R41)*(1+Settings!$C$7)+G13*Settings!$C$4 -> 0
B17: Milestone/Task | C17: Responsible | D17: B Start | E17: B End | F17: FC Start | G17: FC End | H17: A Start | I17: A End | J17: B Hours | K17: FC Hours | L17: A Hours | M17: B Costs | N17: FC Costs | O17: A Costs | P17: B Revenue | Q17: FC Revenue | R17: A Revenue | T17: W1 | U17: W2 | V17: W3 | W17: W4 | X17: W5 | Y17: W6 | Z17: W7 | AA17: W8 | AB17: W9 | AC17: W10 | AD17: W11 | AE17: W12 | AF17: W13 | AG17: W14 | AH17: W15 | AI17: W16 | AJ17: W17 | AK17: W18 | AL17: W19 | AM17: W20 | AN17: W21 | AO17: W22 | AP17: W23 | AQ17: W24 | AR17: W25 | AS17: W26 | AT17: W27 | AU17: W28 | AV17: W29 | AW17: W30 | AX17: W31 | AY17: W32 | AZ17: W33 | BA17: W34 | BB17: W35 | BC17: W36 | BD17: W37 | BE17: W38 | BF17: W39 | BG17: W40 | BH17: W41 | BI17: W42 | BJ17: W43 | BK17: W44 | BL17: W45 | BM17: W46 | BN17: W47 | BO17: W48 | BP17: W49 | BQ17: W50 | BR17: W51 | BS17: W52 | BT17: W53 | BU17: W54
B19: Milestone 1 | D19: 44958 | J19: =+SUM(J20:J27) -> 0 | K19: =+SUM(K20:K27) -> 0 | L19: =+SUM(L20:L27) -> 0 | M19: =+SUM(M20:M27) -> 0 | N19: =+SUM(N20:N27) -> 0 | O19: =+SUM(O20:O27) -> 0 | P19: =+SUM(P20:P27) -> 0 | Q19: =+SUM(Q20:Q27) -> 0 | R19: =+SUM(R20:R27) -> 0
B20: Task 1
B21: Task 2
B22: Task 3
B23: Task 4
B24: Task 5
B25: Task 6
B26: Task 7
B28: Milestone 2 | J28: =+SUM(J29:J33) -> 0 | K28: =+SUM(K29:K33) -> 0 | L28: =+SUM(L29:L33) -> 0 | M28: =+SUM(M29:M33) -> 0 | N28: =+SUM(N29:N33) -> 0 | O28: =+SUM(O29:O33) -> 0 | P28: =+SUM(P29:P33) -> 0 | Q28: =+SUM(Q29:Q33) -> 0 | R28: =+SUM(R29:R33) -> 0
B29: Task 1
B30: Task 2
B31: Task 3
B32: Task 4
B34: Milestone 3 | J34: =+SUM(J35:J40) -> 0 | K34: =+SUM(K35:K40) -> 0 | L34: =+SUM(L35:L40) -> 0 | M34: =+SUM(M35:M40) -> 0 | N34: =+SUM(N35:N40) -> 0 | O34: =+SUM(O35:O40) -> 0 | P34: =+SUM(P35:P40) -> 0 | Q34: =+SUM(Q35:Q40) -> 0 | R34: =+SUM(R35:R40) -> 0
B35: Task 1
B36: Task 2
B37: Task 3
B38: Task 4
B39: Task 5
B41: Milestone 3 | J41: =+SUM(J42:J47) -> 0 | K41: =+SUM(K42:K47) -> 0 | L41: =+SUM(L42:L47) -> 0 | M41: =+SUM(M42:M47) -> 0 | N41: =+SUM(N42:N47) -> 0 | O41: =+SUM(O42:O47) -> 0 | P41: =+SUM(P42:P47) -> 0 | Q41: =+SUM(Q42:Q47) -> 0 | R41: =+SUM(R42:R47) -> 0
B42: Task 1
B43: Task 2
B44: Task 3
B45: Task 4
B46: Task 5
