Workbook

Sheet Dashboard

Sheet Settings
B2: Basisjahr | C2: 2017
B3: Aktuelles Jahr | C3: 2022
B4: Aktueller Monat | C4: 12

Sheet PL-tc
A2: GuV | B2: GuV | D2: =+Settings!C2 -> 2017 | E2: =D2+1 -> 2018 | F2: =E2+1 -> 2019 | G2: =F2+1 -> 2020 | H2: =G2+1 -> 2021 | I2: =H2+1 -> 2022 | J2: =I2+1 -> 2023 | K2: =J2+1 -> 2024 | L2: =K2+1 -> 2025 | N2: =+H2 -> 2021 | O2: =+I2 -> 2022 | P2: =H2+1 -> 2022 | Q2: Budget | R2: VJ | T2: =+H2 -> 2021 | U2: =+I2 -> 2022 | V2: =+U2 -> 2022 | W2: Budget | X2: VJ
A3: in TEUR | B3: in TEUR | D3: =+dict!$C$1662 -> VJ | E3: =+dict!$C$1662 -> VJ | F3: =+dict!$C$1662 -> VJ | G3: =+dict!$C$1662 -> VJ | H3: =+dict!$C$1662 -> VJ | I3: =+dict!$C$1663 -> FC | J3: B | K3: B | L3: B | N3: PY YTD | O3: B YTD | P3: A YTD | Q3: Δ % | R3: Δ % | T3: PY | U3: B | V3: FC | W3: Δ % | X3: Δ %
A5: 1. Umsatzerlöse | B5: 1. Umsatzerlöse | D5: =+SUM(D6:D76)+D77 -> 9025 | E5: =+SUM(E6:E76)+E77 -> 9295.75 | F5: =+SUM(F6:F76)+F77 -> 9593.214 | G5: =+SUM(G6:G76)+G77 -> 9948.1629 | H5: =+SUM(H6:H76)+H77 -> 10395.83 | I5: =+SUM(I6:I76)+I77 -> 10759.684 | J5: =+SUM(J6:J76)+J77 -> 11028.936 | K5: =+SUM(K6:K76)+K77 -> 11470.094 | L5: =+SUM(L6:L76)+L77 -> 12043.598 | N5: =+SUM(N6:N76)+N77 -> 10395.83 | O5: =+SUM(O6:O76)+O77 -> 10707.705 | P5: =+SUM(P6:P76)+P77 -> 10759.684 | Q5: =IFERROR(P5/O5-1,"n/a") -> 0.0048543689 | R5: =IFERROR(P5/N5-1,"n/a") -> 0.035 | T5: =+SUM(T6:T76)+T77 -> 10395.83 | U5: =+SUM(U6:U76)+U77 -> 10707.705 | V5: =+SUM(V6:V76)+V77 -> 10759.684 | W5: =IFERROR(V5/U5-1,"n/a") -> 0.0048543689 | X5: =IFERROR(V5/T5-1,"n/a") -> 0.035
A6: 8000 | B6: =+masterfile!D1211 -> 8000 Umsatzerlöse Allemein | D6: =-VLOOKUP(A6,'pl-data'!A:F,4) -> 9025 | E6: =-VLOOKUP(A6,'pl-data'!A:F,5) -> 9295.75 | F6: =-VLOOKUP(A6,'pl-data'!A:F,6) -> 9593.214 | G6: =-VLOOKUP(A6,'pl-data'!A:G,7) -> 9948.1629 | H6: =-VLOOKUP(A6,'pl-data'!A:V,22) -> 10395.83 | I6: =+U6+P6-O6 -> 10759.684 | J6: =-VLOOKUP(A6,'pl-data'!A:BR,66) -> 11028.936 | K6: =-VLOOKUP(A6,'pl-data'!A:BR,68) -> 11470.094 | L6: =-VLOOKUP(A6,'pl-data'!A:BR,70) -> 12043.598 | N6: =-VLOOKUP(A6,'pl-data'!A:BR,21) -> 10395.83 | O6: =-VLOOKUP(A6,'pl-data'!A:BR,51) -> 10707.705 | P6: =-VLOOKUP(A6,'pl-data'!A:BR,36) -> 10759.684 | Q6: =IFERROR(P6/O6-1,"n/a") -> 0.0048543689 | R6: =IFERROR(P6/N6-1,"n/a") -> 0.035 | T6: =+H6 -> 10395.83 | U6: =-VLOOKUP(A6,'pl-data'!A:BR,52) -> 10707.705 | V6: =+I6 -> 10759.684 | W6: =IFERROR(V6/U6-1,"n/a") -> 0.0048543689 | X6: =IFERROR(V6/T6-1,"n/a") -> 0.035
A7: 8001 | B7: =+masterfile!D1212 -> 8001 Umsatzerlöse Software | D7: =-VLOOKUP(A7,'pl-data'!A:F,4) -> 0 | E7: =-VLOOKUP(A7,'pl-data'!A:F,5) -> 0 | F7: =-VLOOKUP(A7,'pl-data'!A:F,6) -> 0 | G7: =-VLOOKUP(A7,'pl-data'!A:G,7) -> 0 | H7: =-VLOOKUP(A7,'pl-data'!A:V,22) -> 0 | I7: =+U7+P7-O7 -> 0 | J7: =-VLOOKUP(A7,'pl-data'!A:BR,66) -> 0 | K7: =-VLOOKUP(A7,'pl-data'!A:BR,68) -> 0 | L7: =-VLOOKUP(A7,'pl-data'!A:BR,70) -> 0 | N7: =-VLOOKUP(A7,'pl-data'!A:BR,21) -> 0 | O7: =-VLOOKUP(A7,'pl-data'!A:BR,51) -> 0 | P7: =-VLOOKUP(A7,'pl-data'!A:BR,36) -> 0 | Q7: =IFERROR(P7/O7-1,"n/a") -> n/a | R7: =IFERROR(P7/N7-1,"n/a") -> n/a | T7: =+H7 -> 0 | U7: =-VLOOKUP(A7,'pl-data'!A:BR,52) -> 0 | V7: =+I7 -> 0 | W7: =IFERROR(V7/U7-1,"n/a") -> n/a | X7: =IFERROR(V7/T7-1,"n/a") -> n/a
A8: 8002 | B8: =+masterfile!D1213 -> 8002 Umsatzerlöse Customization | D8: =-VLOOKUP(A8,'pl-data'!A:F,4) -> 0 | E8: =-VLOOKUP(A8,'pl-data'!A:F,5) -> 0 | F8: =-VLOOKUP(A8,'pl-data'!A:F,6) -> 0 | G8: =-VLOOKUP(A8,'pl-data'!A:G,7) -> 0 | H8: =-VLOOKUP(A8,'pl-data'!A:V,22) -> 0 | I8: =+U8+P8-O8 -> 0 | J8: =-VLOOKUP(A8,'pl-data'!A:BR,66) -> 0 | K8: =-VLOOKUP(A8,'pl-data'!A:BR,68) -> 0 | L8: =-VLOOKUP(A8,'pl-data'!A:BR,70) -> 0 | N8: =-VLOOKUP(A8,'pl-data'!A:BR,21) -> 0 | O8: =-VLOOKUP(A8,'pl-data'!A:BR,51) -> 0 | P8: =-VLOOKUP(A8,'pl-data'!A:BR,36) -> 0 | Q8: =IFERROR(P8/O8-1,"n/a") -> n/a | R8: =IFERROR(P8/N8-1,"n/a") -> n/a | T8: =+H8 -> 0 | U8: =-VLOOKUP(A8,'pl-data'!A:BR,52) -> 0 | V8: =+I8 -> 0 | W8: =IFERROR(V8/U8-1,"n/a") -> n/a | X8: =IFERROR(V8/T8-1,"n/a") -> n/a
A9: 8003 | B9: =+masterfile!D1214 -> 8003 Umsatzerlöse Schulung, Wartung & Support | D9: =-VLOOKUP(A9,'pl-data'!A:F,4) -> 0 | E9: =-VLOOKUP(A9,'pl-data'!A:F,5) -> 0 | F9: =-VLOOKUP(A9,'pl-data'!A:F,6) -> 0 | G9: =-VLOOKUP(A9,'pl-data'!A:G,7) -> 0 | H9: =-VLOOKUP(A9,'pl-data'!A:V,22) -> 0 | I9: =+U9+P9-O9 -> 0 | J9: =-VLOOKUP(A9,'pl-data'!A:BR,66) -> 0 | K9: =-VLOOKUP(A9,'pl-data'!A:BR,68) -> 0 | L9: =-VLOOKUP(A9,'pl-data'!A:BR,70) -> 0 | N9: =-VLOOKUP(A9,'pl-data'!A:BR,21) -> 0 | O9: =-VLOOKUP(A9,'pl-data'!A:BR,51) -> 0 | P9: =-VLOOKUP(A9,'pl-data'!A:BR,36) -> 0 | Q9: =IFERROR(P9/O9-1,"n/a") -> n/a | R9: =IFERROR(P9/N9-1,"n/a") -> n/a | T9: =+H9 -> 0 | U9: =-VLOOKUP(A9,'pl-data'!A:BR,52) -> 0 | V9: =+I9 -> 0 | W9: =IFERROR(V9/U9-1,"n/a") -> n/a | X9: =IFERROR(V9/T9-1,"n/a") -> n/a
A10: 8004 | B10: =+masterfile!D1215 -> 8004 Umsatzerlöse Hardware | D10: =-VLOOKUP(A10,'pl-data'!A:F,4) -> 0 | E10: =-VLOOKUP(A10,'pl-data'!A:F,5) -> 0 | F10: =-VLOOKUP(A10,'pl-data'!A:F,6) -> 0 | G10: =-VLOOKUP(A10,'pl-data'!A:G,7) -> 0 | H10: =-VLOOKUP(A10,'pl-data'!A:V,22) -> 0 | I10: =+U10+P10-O10 -> 0 | J10: =-VLOOKUP(A10,'pl-data'!A:BR,66) -> 0 | K10: =-VLOOKUP(A10,'pl-data'!A:BR,68) -> 0 | L10: =-VLOOKUP(A10,'pl-data'!A:BR,70) -> 0 | N10: =-VLOOKUP(A10,'pl-data'!A:BR,21) -> 0 | O10: =-VLOOKUP(A10,'pl-data'!A:BR,51) -> 0 | P10: =-VLOOKUP(A10,'pl-data'!A:BR,36) -> 0 | Q10: =IFERROR(P10/O10-1,"n/a") -> n/a | R10: =IFERROR(P10/N10-1,"n/a") -> n/a | T10: =+H10 -> 0 | U10: =-VLOOKUP(A10,'pl-data'!A:BR,52) -> 0 | V10: =+I10 -> 0 | W10: =IFERROR(V10/U10-1,"n/a") -> n/a | X10: =IFERROR(V10/T10-1,"n/a") -> n/a
A11: 8005 | B11: =+masterfile!D1216 -> 8005 Umsatzerlöse Sonstiges | D11: =-VLOOKUP(A11,'pl-data'!A:F,4) -> 0 | E11: =-VLOOKUP(A11,'pl-data'!A:F,5) -> 0 | F11: =-VLOOKUP(A11,'pl-data'!A:F,6) -> 0 | G11: =-VLOOKUP(A11,'pl-data'!A:G,7) -> 0 | H11: =-VLOOKUP(A11,'pl-data'!A:V,22) -> 0 | I11: =+U11+P11-O11 -> 0 | J11: =-VLOOKUP(A11,'pl-data'!A:BR,66) -> 0 | K11: =-VLOOKUP(A11,'pl-data'!A:BR,68) -> 0 | L11: =-VLOOKUP(A11,'pl-data'!A:BR,70) -> 0 | N11: =-VLOOKUP(A11,'pl-data'!A:BR,21) -> 0 | O11: =-VLOOKUP(A11,'pl-data'!A:BR,51) -> 0 | P11: =-VLOOKUP(A11,'pl-data'!A:BR,36) -> 0 | Q11: =IFERROR(P11/O11-1,"n/a") -> n/a | R11: =IFERROR(P11/N11-1,"n/a") -> n/a | T11: =+H11 -> 0 | U11: =-VLOOKUP(A11,'pl-data'!A:BR,52) -> 0 | V11: =+I11 -> 0 | W11: =IFERROR(V11/U11-1,"n/a") -> n/a | X11: =IFERROR(V11/T11-1,"n/a") -> n/a
A12: 8006 | B12: =+masterfile!D1217 -> 8006 Umsatzerlöse | D12: =-VLOOKUP(A12,'pl-data'!A:F,4) -> 0 | E12: =-VLOOKUP(A12,'pl-data'!A:F,5) -> 0 | F12: =-VLOOKUP(A12,'pl-data'!A:F,6) -> 0 | G12: =-VLOOKUP(A12,'pl-data'!A:G,7) -> 0 | H12: =-VLOOKUP(A12,'pl-data'!A:V,22) -> 0 | I12: =+U12+P12-O12 -> 0 | J12: =-VLOOKUP(A12,'pl-data'!A:BR,66) -> 0 | K12: =-VLOOKUP(A12,'pl-data'!A:BR,68) -> 0 | L12: =-VLOOKUP(A12,'pl-data'!A:BR,70) -> 0 | N12: =-VLOOKUP(A12,'pl-data'!A:BR,21) -> 0 | O12: =-VLOOKUP(A12,'pl-data'!A:BR,51) -> 0 | P12: =-VLOOKUP(A12,'pl-data'!A:BR,36) -> 0 | Q12: =IFERROR(P12/O12-1,"n/a") -> n/a | R12: =IFERROR(P12/N12-1,"n/a") -> n/a | T12: =+H12 -> 0 | U12: =-VLOOKUP(A12,'pl-data'!A:BR,52) -> 0 | V12: =+I12 -> 0 | W12: =IFERROR(V12/U12-1,"n/a") -> n/a | X12: =IFERROR(V12/T12-1,"n/a") -> n/a
A13: 8007 | B13: =+masterfile!D1218 -> 8007 Umsatzerlöse | D13: =-VLOOKUP(A13,'pl-data'!A:F,4) -> 0 | E13: =-VLOOKUP(A13,'pl-data'!A:F,5) -> 0 | F13: =-VLOOKUP(A13,'pl-data'!A:F,6) -> 0 | G13: =-VLOOKUP(A13,'pl-data'!A:G,7) -> 0 | H13: =-VLOOKUP(A13,'pl-data'!A:V,22) -> 0 | I13: =+U13+P13-O13 -> 0 | J13: =-VLOOKUP(A13,'pl-data'!A:BR,66) -> 0 | K13: =-VLOOKUP(A13,'pl-data'!A:BR,68) -> 0 | L13: =-VLOOKUP(A13,'pl-data'!A:BR,70) -> 0 | N13: =-VLOOKUP(A13,'pl-data'!A:BR,21) -> 0 | O13: =-VLOOKUP(A13,'pl-data'!A:BR,51) -> 0 | P13: =-VLOOKUP(A13,'pl-data'!A:BR,36) -> 0 | Q13: =IFERROR(P13/O13-1,"n/a") -> n/a | R13: =IFERROR(P13/N13-1,"n/a") -> n/a | T13: =+H13 -> 0 | U13: =-VLOOKUP(A13,'pl-data'!A:BR,52) -> 0 | V13: =+I13 -> 0 | W13: =IFERROR(V13/U13-1,"n/a") -> n/a | X13: =IFERROR(V13/T13-1,"n/a") -> n/a
A14: 8008 | B14: =+masterfile!D1219 -> 8008 Umsatzerlöse | D14: =-VLOOKUP(A14,'pl-data'!A:F,4) -> 0 | E14: =-VLOOKUP(A14,'pl-data'!A:F,5) -> 0 | F14: =-VLOOKUP(A14,'pl-data'!A:F,6) -> 0 | G14: =-VLOOKUP(A14,'pl-data'!A:G,7) -> 0 | H14: =-VLOOKUP(A14,'pl-data'!A:V,22) -> 0 | I14: =+U14+P14-O14 -> 0 | J14: =-VLOOKUP(A14,'pl-data'!A:BR,66) -> 0 | K14: =-VLOOKUP(A14,'pl-data'!A:BR,68) -> 0 | L14: =-VLOOKUP(A14,'pl-data'!A:BR,70) -> 0 | N14: =-VLOOKUP(A14,'pl-data'!A:BR,21) -> 0 | O14: =-VLOOKUP(A14,'pl-data'!A:BR,51) -> 0 | P14: =-VLOOKUP(A14,'pl-data'!A:BR,36) -> 0 | Q14: =IFERROR(P14/O14-1,"n/a") -> n/a | R14: =IFERROR(P14/N14-1,"n/a") -> n/a | T14: =+H14 -> 0 | U14: =-VLOOKUP(A14,'pl-data'!A:BR,52) -> 0 | V14: =+I14 -> 0 | W14: =IFERROR(V14/U14-1,"n/a") -> n/a | X14: =IFERROR(V14/T14-1,"n/a") -> n/a
A15: 8009 | B15: =+masterfile!D1220 -> 8009 Umsatzerlöse | D15: =-VLOOKUP(A15,'pl-data'!A:F,4) -> 0 | E15: =-VLOOKUP(A15,'pl-data'!A:F,5) -> 0 | F15: =-VLOOKUP(A15,'pl-data'!A:F,6) -> 0 | G15: =-VLOOKUP(A15,'pl-data'!A:G,7) -> 0 | H15: =-VLOOKUP(A15,'pl-data'!A:V,22) -> 0 | I15: =+U15+P15-O15 -> 0 | J15: =-VLOOKUP(A15,'pl-data'!A:BR,66) -> 0 | K15: =-VLOOKUP(A15,'pl-data'!A:BR,68) -> 0 | L15: =-VLOOKUP(A15,'pl-data'!A:BR,70) -> 0 | N15: =-VLOOKUP(A15,'pl-data'!A:BR,21) -> 0 | O15: =-VLOOKUP(A15,'pl-data'!A:BR,51) -> 0 | P15: =-VLOOKUP(A15,'pl-data'!A:BR,36) -> 0 | Q15: =IFERROR(P15/O15-1,"n/a") -> n/a | R15: =IFERROR(P15/N15-1,"n/a") -> n/a | T15: =+H15 -> 0 | U15: =-VLOOKUP(A15,'pl-data'!A:BR,52) -> 0 | V15: =+I15 -> 0 | W15: =IFERROR(V15/U15-1,"n/a") -> n/a | X15: =IFERROR(V15/T15-1,"n/a") -> n/a
A16: 8100 | B16: =+masterfile!D1221 -> 8100 Steuerfreie Umsätze § 4 Nr. 8 ff. UStG | D16: =-VLOOKUP(A16,'pl-data'!A:F,4) -> 0 | E16: =-VLOOKUP(A16,'pl-data'!A:F,5) -> 0 | F16: =-VLOOKUP(A16,'pl-data'!A:F,6) -> 0 | G16: =-VLOOKUP(A16,'pl-data'!A:G,7) -> 0 | H16: =-VLOOKUP(A16,'pl-data'!A:V,22) -> 0 | I16: =+U16+P16-O16 -> 0 | J16: =-VLOOKUP(A16,'pl-data'!A:BR,66) -> 0 | K16: =-VLOOKUP(A16,'pl-data'!A:BR,68) -> 0 | L16: =-VLOOKUP(A16,'pl-data'!A:BR,70) -> 0 | N16: =-VLOOKUP(A16,'pl-data'!A:BR,21) -> 0 | O16: =-VLOOKUP(A16,'pl-data'!A:BR,51) -> 0 | P16: =-VLOOKUP(A16,'pl-data'!A:BR,36) -> 0 | Q16: =IFERROR(P16/O16-1,"n/a") -> n/a | R16: =IFERROR(P16/N16-1,"n/a") -> n/a | T16: =+H16 -> 0 | U16: =-VLOOKUP(A16,'pl-data'!A:BR,52) -> 0 | V16: =+I16 -> 0 | W16: =IFERROR(V16/U16-1,"n/a") -> n/a | X16: =IFERROR(V16/T16-1,"n/a") -> n/a
A17: 8105 | B17: =+masterfile!D1222 -> 8105 Steuerfreie Umsätze V+V § 4 Nr. 12 UStG | D17: =-VLOOKUP(A17,'pl-data'!A:F,4) -> 0 | E17: =-VLOOKUP(A17,'pl-data'!A:F,5) -> 0 | F17: =-VLOOKUP(A17,'pl-data'!A:F,6) -> 0 | G17: =-VLOOKUP(A17,'pl-data'!A:G,7) -> 0 | H17: =-VLOOKUP(A17,'pl-data'!A:V,22) -> 0 | I17: =+U17+P17-O17 -> 0 | J17: =-VLOOKUP(A17,'pl-data'!A:BR,66) -> 0 | K17: =-VLOOKUP(A17,'pl-data'!A:BR,68) -> 0 | L17: =-VLOOKUP(A17,'pl-data'!A:BR,70) -> 0 | N17: =-VLOOKUP(A17,'pl-data'!A:BR,21) -> 0 | O17: =-VLOOKUP(A17,'pl-data'!A:BR,51) -> 0 | P17: =-VLOOKUP(A17,'pl-data'!A:BR,36) -> 0 | Q17: =IFERROR(P17/O17-1,"n/a") -> n/a | R17: =IFERROR(P17/N17-1,"n/a") -> n/a | T17: =+H17 -> 0 | U17: =-VLOOKUP(A17,'pl-data'!A:BR,52) -> 0 | V17: =+I17 -> 0 | W17: =IFERROR(V17/U17-1,"n/a") -> n/a | X17: =IFERROR(V17/T17-1,"n/a") -> n/a
... A59: 8499 | B59: =+masterfile!D1264 -> 8499 Nebenerlöse (Bezug zu Materialaufwand) | D59: =-VLOOKUP(A59,'pl-data'!A:F,4) -> 0 | E59: =-VLOOKUP(A59,'pl-data'!A:F,5) -> 0 | F59: =-VLOOKUP(A59,'pl-data'!A:F,6) -> 0 | G59: =-VLOOKUP(A59,'pl-data'!A:G,7) -> 0 | H59: =-VLOOKUP(A59,'pl-data'!A:V,22) -> 0 | I59: =+U59+P59-O59 -> 0 | J59: =-VLOOKUP(A59,'pl-data'!A:BR,66) -> 0 | K59: =-VLOOKUP(A59,'pl-data'!A:BR,68) -> 0 | L59: =-VLOOKUP(A59,'pl-data'!A:BR,70) -> 0 | N59: =-VLOOKUP(A59,'pl-data'!A:BR,21) -> 0 | O59: =-VLOOKUP(A59,'pl-data'!A:BR,51) -> 0 | P59: =-VLOOKUP(A59,'pl-data'!A:BR,36) -> 0 | Q59: =IFERROR(P59/O59-1,"n/a") -> n/a | R59: =IFERROR(P59/N59-1,"n/a") -> n/a | T59: =+H59 -> 0 | U59: =-VLOOKUP(A59,'pl-data'!A:BR,52) -> 0 | V59: =+I59 -> 0 | W59: =IFERROR(V59/U59-1,"n/a") -> n/a | X59: =IFERROR(V59/T59-1,"n/a") -> n/a
A60: 8510 | B60: =+masterfile!D1271 -> 8510 Provisionsumsätze | D60: =-VLOOKUP(A60,'pl-data'!A:F,4) -> 0 | E60: =-VLOOKUP(A60,'pl-data'!A:F,5) -> 0 | F60: =-VLOOKUP(A60,'pl-data'!A:F,6) -> 0 | G60: =-VLOOKUP(A60,'pl-data'!A:G,7) -> 0 | H60: =-VLOOKUP(A60,'pl-data'!A:V,22) -> 0 | I60: =+U60+P60-O60 -> 0 | J60: =-VLOOKUP(A60,'pl-data'!A:BR,66) -> 0 | K60: =-VLOOKUP(A60,'pl-data'!A:BR,68) -> 0 | L60: =-VLOOKUP(A60,'pl-data'!A:BR,70) -> 0 | N60: =-VLOOKUP(A60,'pl-data'!A:BR,21) -> 0 | O60: =-VLOOKUP(A60,'pl-data'!A:BR,51) -> 0 | P60: =-VLOOKUP(A60,'pl-data'!A:BR,36) -> 0 | Q60: =IFERROR(P60/O60-1,"n/a") -> n/a | R60: =IFERROR(P60/N60-1,"n/a") -> n/a | T60: =+H60 -> 0 | U60: =-VLOOKUP(A60,'pl-data'!A:BR,52) -> 0 | V60: =+I60 -> 0 | W60: =IFERROR(V60/U60-1,"n/a") -> n/a | X60: =IFERROR(V60/T60-1,"n/a") -> n/a
A61: 8514 | B61: =+masterfile!D1272 -> 8514 Provisionsumsätze, stfr.§4 Nr.8 ff.UStG | D61: =-VLOOKUP(A61,'pl-data'!A:F,4) -> 0 | E61: =-VLOOKUP(A61,'pl-data'!A:F,5) -> 0 | F61: =-VLOOKUP(A61,'pl-data'!A:F,6) -> 0 | G61: =-VLOOKUP(A61,'pl-data'!A:G,7) -> 0 | H61: =-VLOOKUP(A61,'pl-data'!A:V,22) -> 0 | I61: =+U61+P61-O61 -> 0 | J61: =-VLOOKUP(A61,'pl-data'!A:BR,66) -> 0 | K61: =-VLOOKUP(A61,'pl-data'!A:BR,68) -> 0 | L61: =-VLOOKUP(A61,'pl-data'!A:BR,70) -> 0 | N61: =-VLOOKUP(A61,'pl-data'!A:BR,21) -> 0 | O61: =-VLOOKUP(A61,'pl-data'!A:BR,51) -> 0 | P61: =-VLOOKUP(A61,'pl-data'!A:BR,36) -> 0 | Q61: =IFERROR(P61/O61-1,"n/a") -> n/a | R61: =IFERROR(P61/N61-1,"n/a") -> n/a | T61: =+H61 -> 0 | U61: =-VLOOKUP(A61,'pl-data'!A:BR,52) -> 0 | V61: =+I61 -> 0 | W61: =IFERROR(V61/U61-1,"n/a") -> n/a | X61: =IFERROR(V61/T61-1,"n/a") -> n/a
A62: 8515 | B62: =+masterfile!D1273 -> 8515 Provisionsumsätze, stfrei §4 Nr. 5 UStG | D62: =-VLOOKUP(A62,'pl-data'!A:F,4) -> 0 | E62: =-VLOOKUP(A62,'pl-data'!A:F,5) -> 0 | F62: =-VLOOKUP(A62,'pl-data'!A:F,6) -> 0 | G62: =-VLOOKUP(A62,'pl-data'!A:G,7) -> 0 | H62: =-VLOOKUP(A62,'pl-data'!A:V,22) -> 0 | I62: =+U62+P62-O62 -> 0 | J62: =-VLOOKUP(A62,'pl-data'!A:BR,66) -> 0 | K62: =-VLOOKUP(A62,'pl-data'!A:BR,68) -> 0 | L62: =-VLOOKUP(A62,'pl-data'!A:BR,70) -> 0 | N62: =-VLOOKUP(A62,'pl-data'!A:BR,21) -> 0 | O62: =-VLOOKUP(A62,'pl-data'!A:BR,51) -> 0 | P62: =-VLOOKUP(A62,'pl-data'!A:BR,36) -> 0 | Q62: =IFERROR(P62/O62-1,"n/a") -> n/a | R62: =IFERROR(P62/N62-1,"n/a") -> n/a | T62: =+H62 -> 0 | U62: =-VLOOKUP(A62,'pl-data'!A:BR,52) -> 0 | V62: =+I62 -> 0 | W62: =IFERROR(V62/U62-1,"n/a") -> n/a | X62: =IFERROR(V62/T62-1,"n/a") -> n/a
A63: 8516 | B63: =+masterfile!D1274 -> 8516 Provisionsumsätze 7% USt | D63: =-VLOOKUP(A63,'pl-data'!A:F,4) -> 0 | E63: =-VLOOKUP(A63,'pl-data'!A:F,5) -> 0 | F63: =-VLOOKUP(A63,'pl-data'!A:F,6) -> 0 | G63: =-VLOOKUP(A63,'pl-data'!A:G,7) -> 0 | H63: =-VLOOKUP(A63,'pl-data'!A:V,22) -> 0 | I63: =+U63+P63-O63 -> 0 | J63: =-VLOOKUP(A63,'pl-data'!A:BR,66) -> 0 | K63: =-VLOOKUP(A63,'pl-data'!A:BR,68) -> 0 | L63: =-VLOOKUP(A63,'pl-data'!A:BR,70) -> 0 | N63: =-VLOOKUP(A63,'pl-data'!A:BR,21) -> 0 | O63: =-VLOOKUP(A63,'pl-data'!A:BR,51) -> 0 | P63: =-VLOOKUP(A63,'pl-data'!A:BR,36) -> 0 | Q63: =IFERROR(P63/O63-1,"n/a") -> n/a | R63: =IFERROR(P63/N63-1,"n/a") -> n/a | T63: =+H63 -> 0 | U63: =-VLOOKUP(A63,'pl-data'!A:BR,52) -> 0 | V63: =+I63 -> 0 | W63: =IFERROR(V63/U63-1,"n/a") -> n/a | X63: =IFERROR(V63/T63-1,"n/a") -> n/a
A64: 8519 | B64: =+masterfile!D1275 -> 8519 Provisionsumsätze 19% USt | D64: =-VLOOKUP(A64,'pl-data'!A:F,4) -> 0 | E64: =-VLOOKUP(A64,'pl-data'!A:F,5) -> 0 | F64: =-VLOOKUP(A64,'pl-data'!A:F,6) -> 0 | G64: =-VLOOKUP(A64,'pl-data'!A:G,7) -> 0 | H64: =-VLOOKUP(A64,'pl-data'!A:V,22) -> 0 | I64: =+U64+P64-O64 -> 0 | J64: =-VLOOKUP(A64,'pl-data'!A:BR,66) -> 0 | K64: =-VLOOKUP(A64,'pl-data'!A:BR,68) -> 0 | L64: =-VLOOKUP(A64,'pl-data'!A:BR,70) -> 0 | N64: =-VLOOKUP(A64,'pl-data'!A:BR,21) -> 0 | O64: =-VLOOKUP(A64,'pl-data'!A:BR,51) -> 0 | P64: =-VLOOKUP(A64,'pl-data'!A:BR,36) -> 0 | Q64: =IFERROR(P64/O64-1,"n/a") -> n/a | R64: =IFERROR(P64/N64-1,"n/a") -> n/a | T64: =+H64 -> 0 | U64: =-VLOOKUP(A64,'pl-data'!A:BR,52) -> 0 | V64: =+I64 -> 0 | W64: =IFERROR(V64/U64-1,"n/a") -> n/a | X64: =IFERROR(V64/T64-1,"n/a") -> n/a
A65: 8520 | B65: =+masterfile!D1276 -> 8520 Erlöse Abfallverwertung | D65: =-VLOOKUP(A65,'pl-data'!A:F,4) -> 0 | E65: =-VLOOKUP(A65,'pl-data'!A:F,5) -> 0 | F65: =-VLOOKUP(A65,'pl-data'!A:F,6) -> 0 | G65: =-VLOOKUP(A65,'pl-data'!A:G,7) -> 0 | H65: =-VLOOKUP(A65,'pl-data'!A:V,22) -> 0 | I65: =+U65+P65-O65 -> 0 | J65: =-VLOOKUP(A65,'pl-data'!A:BR,66) -> 0 | K65: =-VLOOKUP(A65,'pl-data'!A:BR,68) -> 0 | L65: =-VLOOKUP(A65,'pl-data'!A:BR,70) -> 0 | N65: =-VLOOKUP(A65,'pl-data'!A:BR,21) -> 0 | O65: =-VLOOKUP(A65,'pl-data'!A:BR,51) -> 0 | P65: =-VLOOKUP(A65,'pl-data'!A:BR,36) -> 0 | Q65: =IFERROR(P65/O65-1,"n/a") -> n/a | R65: =IFERROR(P65/N65-1,"n/a") -> n/a | T65: =+H65 -> 0 | U65: =-VLOOKUP(A65,'pl-data'!A:BR,52) -> 0 | V65: =+I65 -> 0 | W65: =IFERROR(V65/U65-1,"n/a") -> n/a | X65: =IFERROR(V65/T65-1,"n/a") -> n/a
A66: 8540 | B66: =+masterfile!D1277 -> 8540 Erlöse Leergut | D66: =-VLOOKUP(A66,'pl-data'!A:F,4) -> 0 | E66: =-VLOOKUP(A66,'pl-data'!A:F,5) -> 0 | F66: =-VLOOKUP(A66,'pl-data'!A:F,6) -> 0 | G66: =-VLOOKUP(A66,'pl-data'!A:G,7) -> 0 | H66: =-VLOOKUP(A66,'pl-data'!A:V,22) -> 0 | I66: =+U66+P66-O66 -> 0 | J66: =-VLOOKUP(A66,'pl-data'!A:BR,66) -> 0 | K66: =-VLOOKUP(A66,'pl-data'!A:BR,68) -> 0 | L66: =-VLOOKUP(A66,'pl-data'!A:BR,70) -> 0 | N66: =-VLOOKUP(A66,'pl-data'!A:BR,21) -> 0 | O66: =-VLOOKUP(A66,'pl-data'!A:BR,51) -> 0 | P66: =-VLOOKUP(A66,'pl-data'!A:BR,36) -> 0 | Q66: =IFERROR(P66/O66-1,"n/a") -> n/a | R66: =IFERROR(P66/N66-1,"n/a") -> n/a | T66: =+H66 -> 0 | U66: =-VLOOKUP(A66,'pl-data'!A:BR,52) -> 0 | V66: =+I66 -> 0 | W66: =IFERROR(V66/U66-1,"n/a") -> n/a | X66: =IFERROR(V66/T66-1,"n/a") -> n/a
A67: 8570 | B67: =+masterfile!D1278 -> 8570 Provision, sonstige Erträge | D67: =-VLOOKUP(A67,'pl-data'!A:F,4) -> 0 | E67: =-VLOOKUP(A67,'pl-data'!A:F,5) -> 0 | F67: =-VLOOKUP(A67,'pl-data'!A:F,6) -> 0 | G67: =-VLOOKUP(A67,'pl-data'!A:G,7) -> 0 | H67: =-VLOOKUP(A67,'pl-data'!A:V,22) -> 0 | I67: =+U67+P67-O67 -> 0 | J67: =-VLOOKUP(A67,'pl-data'!A:BR,66) -> 0 | K67: =-VLOOKUP(A67,'pl-data'!A:BR,68) -> 0 | L67: =-VLOOKUP(A67,'pl-data'!A:BR,70) -> 0 | N67: =-VLOOKUP(A67,'pl-data'!A:BR,21) -> 0 | O67: =-VLOOKUP(A67,'pl-data'!A:BR,51) -> 0 | P67: =-VLOOKUP(A67,'pl-data'!A:BR,36) -> 0 | Q67: =IFERROR(P67/O67-1,"n/a") -> n/a | R67: =IFERROR(P67/N67-1,"n/a") -> n/a | T67: =+H67 -> 0 | U67: =-VLOOKUP(A67,'pl-data'!A:BR,52) -> 0 | V67: =+I67 -> 0 | W67: =IFERROR(V67/U67-1,"n/a") -> n/a | X67: =IFERROR(V67/T67-1,"n/a") -> n/a
A68: 8574 | B68: =+masterfile!D1279 -> 8574 Provision so.Ertr.stfr. § 4 Nr.8 ff UStG | D68: =-VLOOKUP(A68,'pl-data'!A:F,4) -> 0 | E68: =-VLOOKUP(A68,'pl-data'!A:F,5) -> 0 | F68: =-VLOOKUP(A68,'pl-data'!A:F,6) -> 0 | G68: =-VLOOKUP(A68,'pl-data'!A:G,7) -> 0 | H68: =-VLOOKUP(A68,'pl-data'!A:V,22) -> 0 | I68: =+U68+P68-O68 -> 0 | J68: =-VLOOKUP(A68,'pl-data'!A:BR,66) -> 0 | K68: =-VLOOKUP(A68,'pl-data'!A:BR,68) -> 0 | L68: =-VLOOKUP(A68,'pl-data'!A:BR,70) -> 0 | N68: =-VLOOKUP(A68,'pl-data'!A:BR,21) -> 0 | O68: =-VLOOKUP(A68,'pl-data'!A:BR,51) -> 0 | P68: =-VLOOKUP(A68,'pl-data'!A:BR,36) -> 0 | Q68: =IFERROR(P68/O68-1,"n/a") -> n/a | R68: =IFERROR(P68/N68-1,"n/a") -> n/a | T68: =+H68 -> 0 | U68: =-VLOOKUP(A68,'pl-data'!A:BR,52) -> 0 | V68: =+I68 -> 0 | W68: =IFERROR(V68/U68-1,"n/a") -> n/a | X68: =IFERROR(V68/T68-1,"n/a") -> n/a
A69: 8575 | B69: =+masterfile!D1280 -> 8575 Provision so.Ertr.stfr. § 4 Nr. 5 UStG | D69: =-VLOOKUP(A69,'pl-data'!A:F,4) -> 0 | E69: =-VLOOKUP(A69,'pl-data'!A:F,5) -> 0 | F69: =-VLOOKUP(A69,'pl-data'!A:F,6) -> 0 | G69: =-VLOOKUP(A69,'pl-data'!A:G,7) -> 0 | H69: =-VLOOKUP(A69,'pl-data'!A:V,22) -> 0 | I69: =+U69+P69-O69 -> 0 | J69: =-VLOOKUP(A69,'pl-data'!A:BR,66) -> 0 | K69: =-VLOOKUP(A69,'pl-data'!A:BR,68) -> 0 | L69: =-VLOOKUP(A69,'pl-data'!A:BR,70) -> 0 | N69: =-VLOOKUP(A69,'pl-data'!A:BR,21) -> 0 | O69: =-VLOOKUP(A69,'pl-data'!A:BR,51) -> 0 | P69: =-VLOOKUP(A69,'pl-data'!A:BR,36) -> 0 | Q69: =IFERROR(P69/O69-1,"n/a") -> n/a | R69: =IFERROR(P69/N69-1,"n/a") -> n/a | T69: =+H69 -> 0 | U69: =-VLOOKUP(A69,'pl-data'!A:BR,52) -> 0 | V69: =+I69 -> 0 | W69: =IFERROR(V69/U69-1,"n/a") -> n/a | X69: =IFERROR(V69/T69-1,"n/a") -> n/a
A70: 8576 | B70: =+masterfile!D1281 -> 8576 Provision, sonstige Erträge 7% USt | D70: =-VLOOKUP(A70,'pl-data'!A:F,4) -> 0 | E70: =-VLOOKUP(A70,'pl-data'!A:F,5) -> 0 | F70: =-VLOOKUP(A70,'pl-data'!A:F,6) -> 0 | G70: =-VLOOKUP(A70,'pl-data'!A:G,7) -> 0 | H70: =-VLOOKUP(A70,'pl-data'!A:V,22) -> 0 | I70: =+U70+P70-O70 -> 0 | J70: =-VLOOKUP(A70,'pl-data'!A:BR,66) -> 0 | K70: =-VLOOKUP(A70,'pl-data'!A:BR,68) -> 0 | L70: =-VLOOKUP(A70,'pl-data'!A:BR,70) -> 0 | N70: =-VLOOKUP(A70,'pl-data'!A:BR,21) -> 0 | O70: =-VLOOKUP(A70,'pl-data'!A:BR,51) -> 0 | P70: =-VLOOKUP(A70,'pl-data'!A:BR,36) -> 0 | Q70: =IFERROR(P70/O70-1,"n/a") -> n/a | R70: =IFERROR(P70/N70-1,"n/a") -> n/a | T70: =+H70 -> 0 | U70: =-VLOOKUP(A70,'pl-data'!A:BR,52) -> 0 | V70: =+I70 -> 0 | W70: =IFERROR(V70/U70-1,"n/a") -> n/a | X70: =IFERROR(V70/T70-1,"n/a") -> n/a
A71: 8579 | B71: =+masterfile!D1282 -> 8579 Provision, sonstige Erträge 19% USt | D71: =-VLOOKUP(A71,'pl-data'!A:F,4) -> 0 | E71: =-VLOOKUP(A71,'pl-data'!A:F,5) -> 0 | F71: =-VLOOKUP(A71,'pl-data'!A:F,6) -> 0 | G71: =-VLOOKUP(A71,'pl-data'!A:G,7) -> 0 | H71: =-VLOOKUP(A71,'pl-data'!A:V,22) -> 0 | I71: =+U71+P71-O71 -> 0 | J71: =-VLOOKUP(A71,'pl-data'!A:BR,66) -> 0 | K71: =-VLOOKUP(A71,'pl-data'!A:BR,68) -> 0 | L71: =-VLOOKUP(A71,'pl-data'!A:BR,70) -> 0 | N71: =-VLOOKUP(A71,'pl-data'!A:BR,21) -> 0 | O71: =-VLOOKUP(A71,'pl-data'!A:BR,51) -> 0 | P71: =-VLOOKUP(A71,'pl-data'!A:BR,36) -> 0 | Q71: =IFERROR(P71/O71-1,"n/a") -> n/a | R71: =IFERROR(P71/N71-1,"n/a") -> n/a | T71: =+H71 -> 0 | U71: =-VLOOKUP(A71,'pl-data'!A:BR,52) -> 0 | V71: =+I71 -> 0 | W71: =IFERROR(V71/U71-1,"n/a") -> n/a | X71: =IFERROR(V71/T71-1,"n/a") -> n/a
A72: 8607 | B72: =+masterfile!D1295 -> 8607 Andere Nebenerlöse | D72: =-VLOOKUP(A72,'pl-data'!A:F,4) -> 0 | E72: =-VLOOKUP(A72,'pl-data'!A:F,5) -> 0 | F72: =-VLOOKUP(A72,'pl-data'!A:F,6) -> 0 | G72: =-VLOOKUP(A72,'pl-data'!A:G,7) -> 0 | H72: =-VLOOKUP(A72,'pl-data'!A:V,22) -> 0 | I72: =+U72+P72-O72 -> 0 | J72: =-VLOOKUP(A72,'pl-data'!A:BR,66) -> 0 | K72: =-VLOOKUP(A72,'pl-data'!A:BR,68) -> 0 | L72: =-VLOOKUP(A72,'pl-data'!A:BR,70) -> 0 | N72: =-VLOOKUP(A72,'pl-data'!A:BR,21) -> 0 | O72: =-VLOOKUP(A72,'pl-data'!A:BR,51) -> 0 | P72: =-VLOOKUP(A72,'pl-data'!A:BR,36) -> 0 | Q72: =IFERROR(P72/O72-1,"n/a") -> n/a | R72: =IFERROR(P72/N72-1,"n/a") -> n/a | T72: =+H72 -> 0 | U72: =-VLOOKUP(A72,'pl-data'!A:BR,52) -> 0 | V72: =+I72 -> 0 | W72: =IFERROR(V72/U72-1,"n/a") -> n/a | X72: =IFERROR(V72/T72-1,"n/a") -> n/a
A73: 8950 | B73: =+masterfile!D1377 -> 8950 Nicht steuerb.Umsätze (Innenumsätze) | D73: =-VLOOKUP(A73,'pl-data'!A:F,4) -> 0 | E73: =-VLOOKUP(A73,'pl-data'!A:F,5) -> 0 | F73: =-VLOOKUP(A73,'pl-data'!A:F,6) -> 0 | G73: =-VLOOKUP(A73,'pl-data'!A:G,7) -> 0 | H73: =-VLOOKUP(A73,'pl-data'!A:V,22) -> 0 | I73: =+U73+P73-O73 -> 0 | J73: =-VLOOKUP(A73,'pl-data'!A:BR,66) -> 0 | K73: =-VLOOKUP(A73,'pl-data'!A:BR,68) -> 0 | L73: =-VLOOKUP(A73,'pl-data'!A:BR,70) -> 0 | N73: =-VLOOKUP(A73,'pl-data'!A:BR,21) -> 0 | O73: =-VLOOKUP(A73,'pl-data'!A:BR,51) -> 0 | P73: =-VLOOKUP(A73,'pl-data'!A:BR,36) -> 0 | Q73: =IFERROR(P73/O73-1,"n/a") -> n/a | R73: =IFERROR(P73/N73-1,"n/a") -> n/a | T73: =+H73 -> 0 | U73: =-VLOOKUP(A73,'pl-data'!A:BR,52) -> 0 | V73: =+I73 -> 0 | W73: =IFERROR(V73/U73-1,"n/a") -> n/a | X73: =IFERROR(V73/T73-1,"n/a") -> n/a
A74: 8955 | B74: =+masterfile!D1378 -> 8955 USt-Vergütungen, z.B. nach § 24 UStG | D74: =-VLOOKUP(A74,'pl-data'!A:F,4) -> 0 | E74: =-VLOOKUP(A74,'pl-data'!A:F,5) -> 0 | F74: =-VLOOKUP(A74,'pl-data'!A:F,6) -> 0 | G74: =-VLOOKUP(A74,'pl-data'!A:G,7) -> 0 | H74: =-VLOOKUP(A74,'pl-data'!A:V,22) -> 0 | I74: =+U74+P74-O74 -> 0 | J74: =-VLOOKUP(A74,'pl-data'!A:BR,66) -> 0 | K74: =-VLOOKUP(A74,'pl-data'!A:BR,68) -> 0 | L74: =-VLOOKUP(A74,'pl-data'!A:BR,70) -> 0 | N74: =-VLOOKUP(A74,'pl-data'!A:BR,21) -> 0 | O74: =-VLOOKUP(A74,'pl-data'!A:BR,51) -> 0 | P74: =-VLOOKUP(A74,'pl-data'!A:BR,36) -> 0 | Q74: =IFERROR(P74/O74-1,"n/a") -> n/a | R74: =IFERROR(P74/N74-1,"n/a") -> n/a | T74: =+H74 -> 0 | U74: =-VLOOKUP(A74,'pl-data'!A:BR,52) -> 0 | V74: =+I74 -> 0 | W74: =IFERROR(V74/U74-1,"n/a") -> n/a | X74: =IFERROR(V74/T74-1,"n/a") -> n/a
A75: 8959 | B75: =+masterfile!D1379 -> 8959 Direkt mit dem Umsatz verb. Steuern | D75: =-VLOOKUP(A75,'pl-data'!A:F,4) -> 0 | E75: =-VLOOKUP(A75,'pl-data'!A:F,5) -> 0 | F75: =-VLOOKUP(A75,'pl-data'!A:F,6) -> 0 | G75: =-VLOOKUP(A75,'pl-data'!A:G,7) -> 0 | H75: =-VLOOKUP(A75,'pl-data'!A:V,22) -> 0 | I75: =+U75+P75-O75 -> 0 | J75: =-VLOOKUP(A75,'pl-data'!A:BR,66) -> 0 | K75: =-VLOOKUP(A75,'pl-data'!A:BR,68) -> 0 | L75: =-VLOOKUP(A75,'pl-data'!A:BR,70) -> 0 | N75: =-VLOOKUP(A75,'pl-data'!A:BR,21) -> 0 | O75: =-VLOOKUP(A75,'pl-data'!A:BR,51) -> 0 | P75: =-VLOOKUP(A75,'pl-data'!A:BR,36) -> 0 | Q75: =IFERROR(P75/O75-1,"n/a") -> n/a | R75: =IFERROR(P75/N75-1,"n/a") -> n/a | T75: =+H75 -> 0 | U75: =-VLOOKUP(A75,'pl-data'!A:BR,52) -> 0 | V75: =+I75 -> 0 | W75: =IFERROR(V75/U75-1,"n/a") -> n/a | X75: =IFERROR(V75/T75-1,"n/a") -> n/a
A77: Erlösschmälerungen, Skonti, Boni | B77: Erlösschmälerungen, Skonti, Boni | D77: =+SUM(D78:D111) -> 0 | E77: =+SUM(E78:E111) -> 0 | F77: =+SUM(F78:F111) -> 0 | G77: =+SUM(G78:G111) -> 0 | H77: =+SUM(H78:H111) -> 0 | I77: =+SUM(I78:I111) -> 0 | J77: =+SUM(J78:J111) -> 0 | K77: =+SUM(K78:K111) -> 0 | L77: =+SUM(L78:L111) -> 0 | N77: =+SUM(N78:N111) -> 0 | O77: =+SUM(O78:O111) -> 0 | P77: =+SUM(P78:P111) -> 0 | Q77: =IFERROR(P77/O77-1,"n/a") -> n/a | R77: =IFERROR(P77/N77-1,"n/a") -> n/a | T77: =+SUM(T78:T111) -> 0 | U77: =+SUM(U78:U111) -> 0 | V77: =+SUM(V78:V111) -> 0 | W77: =IFERROR(V77/U77-1,"n/a") -> n/a | X77: =IFERROR(V77/T77-1,"n/a") -> n/a
A78: 8700 | B78: =+masterfile!D1306 -> 8700 Erlösschmälerungen | D78: =-VLOOKUP(A78,'pl-data'!A:F,4) -> 0 | E78: =-VLOOKUP(A78,'pl-data'!A:F,5) -> 0 | F78: =-VLOOKUP(A78,'pl-data'!A:F,6) -> 0 | G78: =-VLOOKUP(A78,'pl-data'!A:G,7) -> 0 | H78: =-VLOOKUP(A78,'pl-data'!A:V,22) -> 0 | I78: =+U78+P78-O78 -> 0 | J78: =-VLOOKUP(A78,'pl-data'!A:BR,66) -> 0 | K78: =-VLOOKUP(A78,'pl-data'!A:BR,68) -> 0 | L78: =-VLOOKUP(A78,'pl-data'!A:BR,70) -> 0 | N78: =-VLOOKUP(A78,'pl-data'!A:BR,21) -> 0 | O78: =-VLOOKUP(A78,'pl-data'!A:BR,51) -> 0 | P78: =-VLOOKUP(A78,'pl-data'!A:BR,36) -> 0 | Q78: =IFERROR(P78/O78-1,"n/a") -> n/a | R78: =IFERROR(P78/N78-1,"n/a") -> n/a | T78: =+H78 -> 0 | U78: =-VLOOKUP(A78,'pl-data'!A:BR,52) -> 0 | V78: =+I78 -> 0 | W78: =IFERROR(V78/U78-1,"n/a") -> n/a | X78: =IFERROR(V78/T78-1,"n/a") -> n/a
A79: 8701 | B79: =+masterfile!D1307 -> 8701 Erlösschmälerungen stfr.§ 4 Nr.8 ff UStG | D79: =-VLOOKUP(A79,'pl-data'!A:F,4) -> 0 | E79: =-VLOOKUP(A79,'pl-data'!A:F,5) -> 0 | F79: =-VLOOKUP(A79,'pl-data'!A:F,6) -> 0 | G79: =-VLOOKUP(A79,'pl-data'!A:G,7) -> 0 | H79: =-VLOOKUP(A79,'pl-data'!A:V,22) -> 0 | I79: =+U79+P79-O79 -> 0 | J79: =-VLOOKUP(A79,'pl-data'!A:BR,66) -> 0 | K79: =-VLOOKUP(A79,'pl-data'!A:BR,68) -> 0 | L79: =-VLOOKUP(A79,'pl-data'!A:BR,70) -> 0 | N79: =-VLOOKUP(A79,'pl-data'!A:BR,21) -> 0 | O79: =-VLOOKUP(A79,'pl-data'!A:BR,51) -> 0 | P79: =-VLOOKUP(A79,'pl-data'!A:BR,36) -> 0 | Q79: =IFERROR(P79/O79-1,"n/a") -> n/a | R79: =IFERROR(P79/N79-1,"n/a") -> n/a | T79: =+H79 -> 0 | U79: =-VLOOKUP(A79,'pl-data'!A:BR,52) -> 0 | V79: =+I79 -> 0 | W79: =IFERROR(V79/U79-1,"n/a") -> n/a | X79: =IFERROR(V79/T79-1,"n/a") -> n/a
A80: 8702 | B80: =+masterfile!D1308 -> 8702 Erlösschmälerungen stfr.§4 Nr. 2-7 UStG | D80: =-VLOOKUP(A80,'pl-data'!A:F,4) -> 0 | E80: =-VLOOKUP(A80,'pl-data'!A:F,5) -> 0 | F80: =-VLOOKUP(A80,'pl-data'!A:F,6) -> 0 | G80: =-VLOOKUP(A80,'pl-data'!A:G,7) -> 0 | H80: =-VLOOKUP(A80,'pl-data'!A:V,22) -> 0 | I80: =+U80+P80-O80 -> 0 | J80: =-VLOOKUP(A80,'pl-data'!A:BR,66) -> 0 | K80: =-VLOOKUP(A80,'pl-data'!A:BR,68) -> 0 | L80: =-VLOOKUP(A80,'pl-data'!A:BR,70) -> 0 | N80: =-VLOOKUP(A80,'pl-data'!A:BR,21) -> 0 | O80: =-VLOOKUP(A80,'pl-data'!A:BR,51) -> 0 | P80: =-VLOOKUP(A80,'pl-data'!A:BR,36) -> 0 | Q80: =IFERROR(P80/O80-1,"n/a") -> n/a | R80: =IFERROR(P80/N80-1,"n/a") -> n/a | T80: =+H80 -> 0 | U80: =-VLOOKUP(A80,'pl-data'!A:BR,52) -> 0 | V80: =+I80 -> 0 | W80: =IFERROR(V80/U80-1,"n/a") -> n/a | X80: =IFERROR(V80/T80-1,"n/a") -> n/a
A81: 8703 | B81: =+masterfile!D1309 -> 8703 Erlösschmälerungen sonst.stfr. ohne VoSt | D81: =-VLOOKUP(A81,'pl-data'!A:F,4) -> 0 | E81: =-VLOOKUP(A81,'pl-data'!A:F,5) -> 0 | F81: =-VLOOKUP(A81,'pl-data'!A:F,6) -> 0 | G81: =-VLOOKUP(A81,'pl-data'!A:G,7) -> 0 | H81: =-VLOOKUP(A81,'pl-data'!A:V,22) -> 0 | I81: =+U81+P81-O81 -> 0 | J81: =-VLOOKUP(A81,'pl-data'!A:BR,66) -> 0 | K81: =-VLOOKUP(A81,'pl-data'!A:BR,68) -> 0 | L81: =-VLOOKUP(A81,'pl-data'!A:BR,70) -> 0 | N81: =-VLOOKUP(A81,'pl-data'!A:BR,21) -> 0 | O81: =-VLOOKUP(A81,'pl-data'!A:BR,51) -> 0 | P81: =-VLOOKUP(A81,'pl-data'!A:BR,36) -> 0 | Q81: =IFERROR(P81/O81-1,"n/a") -> n/a | R81: =IFERROR(P81/N81-1,"n/a") -> n/a | T81: =+H81 -> 0 | U81: =-VLOOKUP(A81,'pl-data'!A:BR,52) -> 0 | V81: =+I81 -> 0 | W81: =IFERROR(V81/U81-1,"n/a") -> n/a | X81: =IFERROR(V81/T81-1,"n/a") -> n/a
A82: 8704 | B82: =+masterfile!D1310 -> 8704 Erlösschmälerungen sonst.stfr. mit VoSt | D82: =-VLOOKUP(A82,'pl-data'!A:F,4) -> 0 | E82: =-VLOOKUP(A82,'pl-data'!A:F,5) -> 0 | F82: =-VLOOKUP(A82,'pl-data'!A:F,6) -> 0 | G82: =-VLOOKUP(A82,'pl-data'!A:G,7) -> 0 | H82: =-VLOOKUP(A82,'pl-data'!A:V,22) -> 0 | I82: =+U82+P82-O82 -> 0 | J82: =-VLOOKUP(A82,'pl-data'!A:BR,66) -> 0 | K82: =-VLOOKUP(A82,'pl-data'!A:BR,68) -> 0 | L82: =-VLOOKUP(A82,'pl-data'!A:BR,70) -> 0 | N82: =-VLOOKUP(A82,'pl-data'!A:BR,21) -> 0 | O82: =-VLOOKUP(A82,'pl-data'!A:BR,51) -> 0 | P82: =-VLOOKUP(A82,'pl-data'!A:BR,36) -> 0 | Q82: =IFERROR(P82/O82-1,"n/a") -> n/a | R82: =IFERROR(P82/N82-1,"n/a") -> n/a | T82: =+H82 -> 0 | U82: =-VLOOKUP(A82,'pl-data'!A:BR,52) -> 0 | V82: =+I82 -> 0 | W82: =IFERROR(V82/U82-1,"n/a") -> n/a | X82: =IFERROR(V82/T82-1,"n/a") -> n/a
A83: 8705 | B83: =+masterfile!D1311 -> 8705 Erlösschmälerungen stfrei §4 Nr.1a UStG | D83: =-VLOOKUP(A83,'pl-data'!A:F,4) -> 0 | E83: =-VLOOKUP(A83,'pl-data'!A:F,5) -> 0 | F83: =-VLOOKUP(A83,'pl-data'!A:F,6) -> 0 | G83: =-VLOOKUP(A83,'pl-data'!A:G,7) -> 0 | H83: =-VLOOKUP(A83,'pl-data'!A:V,22) -> 0 | I83: =+U83+P83-O83 -> 0 | J83: =-VLOOKUP(A83,'pl-data'!A:BR,66) -> 0 | K83: =-VLOOKUP(A83,'pl-data'!A:BR,68) -> 0 | L83: =-VLOOKUP(A83,'pl-data'!A:BR,70) -> 0 | N83: =-VLOOKUP(A83,'pl-data'!A:BR,21) -> 0 | O83: =-VLOOKUP(A83,'pl-data'!A:BR,51) -> 0 | P83: =-VLOOKUP(A83,'pl-data'!A:BR,36) -> 0 | Q83: =IFERROR(P83/O83-1,"n/a") -> n/a | R83: =IFERROR(P83/N83-1,"n/a") -> n/a | T83: =+H83 -> 0 | U83: =-VLOOKUP(A83,'pl-data'!A:BR,52) -> 0 | V83: =+I83 -> 0 | W83: =IFERROR(V83/U83-1,"n/a") -> n/a | X83: =IFERROR(V83/T83-1,"n/a") -> n/a
A84: 8706 | B84: =+masterfile!D1312 -> 8706 Erlösschm.stfr.Dreiecksg.§ 25b(2,4) UStG | D84: =-VLOOKUP(A84,'pl-data'!A:F,4) -> 0 | E84: =-VLOOKUP(A84,'pl-data'!A:F,5) -> 0 | F84: =-VLOOKUP(A84,'pl-data'!A:F,6) -> 0 | G84: =-VLOOKUP(A84,'pl-data'!A:G,7) -> 0 | H84: =-VLOOKUP(A84,'pl-data'!A:V,22) -> 0 | I84: =+U84+P84-O84 -> 0 | J84: =-VLOOKUP(A84,'pl-data'!A:BR,66) -> 0 | K84: =-VLOOKUP(A84,'pl-data'!A:BR,68) -> 0 | L84: =-VLOOKUP(A84,'pl-data'!A:BR,70) -> 0 | N84: =-VLOOKUP(A84,'pl-data'!A:BR,21) -> 0 | O84: =-VLOOKUP(A84,'pl-data'!A:BR,51) -> 0 | P84: =-VLOOKUP(A84,'pl-data'!A:BR,36) -> 0 | Q84: =IFERROR(P84/O84-1,"n/a") -> n/a | R84: =IFERROR(P84/N84-1,"n/a") -> n/a | T84: =+H84 -> 0 | U84: =-VLOOKUP(A84,'pl-data'!A:BR,52) -> 0 | V84: =+I84 -> 0 | W84: =IFERROR(V84/U84-1,"n/a") -> n/a | X84: =IFERROR(V84/T84-1,"n/a") -> n/a
...

Sheet PL-tc-m
A2: GuV | B2: GuV | D2: PY | E2: B | F2: A | G2: Budget | H2: VJ | J2: PY | K2: B | L2: A | M2: Budget | N2: VJ | P2: PY | Q2: B | R2: A | S2: Budget | T2: VJ | V2: PY | W2: B | X2: A | Y2: Budget | Z2: VJ | AB2: PY | AC2: B | AD2: A | AE2: Budget | AF2: VJ | AH2: PY | AI2: B | AJ2: A | AK2: Budget | AL2: VJ | AN2: PY | AO2: B | AP2: A | AQ2: Budget | AR2: VJ | AT2: PY | AU2: B | AV2: A | AW2: Budget | AX2: VJ | AZ2: PY | BA2: B | BB2: A | BC2: Budget | BD2: VJ | BF2: PY | BG2: B | BH2: A | BI2: Budget | BJ2: VJ | BL2: PY | BM2: B | BN2: A | BO2: Budget | BP2: VJ | BR2: PY | BS2: B | BT2: A | BU2: Budget | BV2: VJ | BX2: PY | BY2: B | BZ2: A | CA2: Budget | CB2: VJ | CD2: Check
A3: in TEUR | B3: in TEUR | D3: 1 | E3: 1 | F3: 1 | G3: Δ % | H3: Δ % | J3: 2 | K3: 2 | L3: 2 | M3: Δ % | N3: Δ % | P3: 3 | Q3: 3 | R3: 3 | S3: Δ % | T3: Δ % | V3: 4 | W3: 4 | X3: 4 | Y3: Δ % | Z3: Δ % | AB3: 5 | AC3: 5 | AD3: 5 | AE3: Δ % | AF3: Δ % | AH3: 6 | AI3: 6 | AJ3: 6 | AK3: Δ % | AL3: Δ % | AN3: 7 | AO3: 7 | AP3: 7 | AQ3: Δ % | AR3: Δ % | AT3: 8 | AU3: 8 | AV3: 8 | AW3: Δ % | AX3: Δ % | AZ3: 9 | BA3: 9 | BB3: 9 | BC3: Δ % | BD3: Δ % | BF3: 10 | BG3: 10 | BH3: 10 | BI3: Δ % | BJ3: Δ % | BL3: 11 | BM3: 11 | BN3: 11 | BO3: Δ % | BP3: Δ % | BR3: 12 | BS3: 12 | BT3: 12 | BU3: Δ % | BV3: Δ % | CA3: Δ % | CB3: Δ %
A5: 1. Umsatzerlöse | B5: 1. Umsatzerlöse | D5: =+SUM(D6:D76)+D77 -> 866.31919 | E5: =+SUM(E6:E76)+E77 -> 892.30876 | F5: =+SUM(F6:F76)+F77 -> 896.64036 | G5: =IFERROR(F5/E5-1,"n/a") -> 0.0048543689 | H5: =IFERROR(F5/D5-1,"n/a") -> 0.035 | J5: =+SUM(J6:J76)+J77 -> 866.31919 | K5: =+SUM(K6:K76)+K77 -> 892.30876 | L5: =+SUM(L6:L76)+L77 -> 896.64036 | M5: =IFERROR(L5/K5-1,"n/a") -> 0.0048543689 | N5: =IFERROR(L5/J5-1,"n/a") -> 0.035 | P5: =+SUM(P6:P76)+P77 -> 866.31919 | Q5: =+SUM(Q6:Q76)+Q77 -> 892.30876 | R5: =+SUM(R6:R76)+R77 -> 896.64036 | S5: =IFERROR(R5/Q5-1,"n/a") -> 0.0048543689 | T5: =IFERROR(R5/P5-1,"n/a") -> 0.035 | V5: =+SUM(V6:V76)+V77 -> 866.31919 | W5: =+SUM(W6:W76)+W77 -> 892.30876 | X5: =+SUM(X6:X76)+X77 -> 896.64036 | Y5: =IFERROR(X5/W5-1,"n/a") -> 0.0048543689 | Z5: =IFERROR(X5/V5-1,"n/a") -> 0.035 | AB5: =+SUM(AB6:AB76)+AB77 -> 866.31919 | AC5: =+SUM(AC6:AC76)+AC77 -> 892.30876 | AD5: =+SUM(AD6:AD76)+AD77 -> 896.64036 | AE5: =IFERROR(AD5/AC5-1,"n/a") -> 0.0048543689 | AF5: =IFERROR(AD5/AB5-1,"n/a") -> 0.035 | AH5: =+SUM(AH6:AH76)+AH77 -> 866.31919 | AI5: =+SUM(AI6:AI76)+AI77 -> 892.30876 | AJ5: =+SUM(AJ6:AJ76)+AJ77 -> 896.64036 | AK5: =IFERROR(AJ5/AI5-1,"n/a") -> 0.0048543689 | AL5: =IFERROR(AJ5/AH5-1,"n/a") -> 0.035 | AN5: =+SUM(AN6:AN76)+AN77 -> 866.31919 | AO5: =+SUM(AO6:AO76)+AO77 -> 892.30876 | AP5: =+SUM(AP6:AP76)+AP77 -> 896.64036 | AQ5: =IFERROR(AP5/AO5-1,"n/a") -> 0.0048543689 | AR5: =IFERROR(AP5/AN5-1,"n/a") -> 0.035 | AT5: =+SUM(AT6:AT76)+AT77 -> 866.31919 | AU5: =+SUM(AU6:AU76)+AU77 -> 892.30876 | AV5: =+SUM(AV6:AV76)+AV77 -> 896.64036 | AW5: =IFERROR(AV5/AU5-1,"n/a") -> 0.0048543689 | AX5: =IFERROR(AV5/AT5-1,"n/a") -> 0.035 | AZ5: =+SUM(AZ6:AZ76)+AZ77 -> 866.31919 | BA5: =+SUM(BA6:BA76)+BA77 -> 892.30876 | BB5: =+SUM(BB6:BB76)+BB77 -> 896.64036 | BC5: =IFERROR(BB5/BA5-1,"n/a") -> 0.0048543689 | BD5: =IFERROR(BB5/AZ5-1,"n/a") -> 0.035 | BF5: =+SUM(BF6:BF76)+BF77 -> 866.31919 | BG5: =+SUM(BG6:BG76)+BG77 -> 892.30876 | BH5: =+SUM(BH6:BH76)+BH77 -> 896.64036 | BI5: =IFERROR(BH5/BG5-1,"n/a") -> 0.0048543689 | BJ5: =IFERROR(BH5/BF5-1,"n/a") -> 0.035 | BL5: =+SUM(BL6:BL76)+BL77 -> 866.31919 | BM5: =+SUM(BM6:BM76)+BM77 -> 892.30876 | BN5: =+SUM(BN6:BN76)+BN77 -> 896.64036 | BO5: =IFERROR(BN5/BM5-1,"n/a") -> 0.0048543689 | BP5: =IFERROR(BN5/BL5-1,"n/a") -> 0.035 | BR5: =+SUM(BR6:BR76)+BR77 -> 866.31919 | BS5: =+SUM(BS6:BS76)+BS77 -> 892.30876 | BT5: =+SUM(BT6:BT76)+BT77 -> 896.64036 | BU5: =IFERROR(BT5/BS5-1,"n/a") -> 0.0048543689 | BV5: =IFERROR(BT5/BR5-1,"n/a") -> 0.035 | BX5: =+BR5+BL5+BF5+AZ5+AT5+AN5+AH5+AB5+V5+P5+J5+D5 -> 10395.83 | BY5: =+BS5+BM5+BG5+BA5+AU5+AO5+AI5+AC5+W5+Q5+K5+E5 -> 10707.705 | BZ5: =+BT5+BN5+BH5+BB5+AV5+AP5+AJ5+AD5+X5+R5+L5+F5 -> 10759.684 | CA5: =IFERROR(BZ5/BY5-1,"n/a") -> 0.0048543689 | CB5: =IFERROR(BZ5/BX5-1,"n/a") -> 0.035 | CD5: =+ABS(BX5-'PL-tc'!N5+'PL-tc-m'!BY5-'PL-tc'!O5+'PL-tc-m'!BZ5-'PL-tc'!P5)<0.001 -> TRUE
A6: 8000 | B6: =+masterfile!D1211 -> 8000 Umsatzerlöse Allemein | D6: =-VLOOKUP($A6,'pl-data'!$A:$BR,8+D$3) -> 866.31919 | E6: =-VLOOKUP($A6,'pl-data'!$A:$BR,38+E$3) -> 892.30876 | F6: =-VLOOKUP($A6,'pl-data'!$A:$BR,23+F$3) -> 896.64036 | G6: =IFERROR(F6/E6-1,"n/a") -> 0.0048543689 | H6: =IFERROR(F6/D6-1,"n/a") -> 0.035 | J6: =-VLOOKUP($A6,'pl-data'!$A:$BR,8+J$3) -> 866.31919 | K6: =-VLOOKUP($A6,'pl-data'!$A:$BR,38+K$3) -> 892.30876 | L6: =-VLOOKUP($A6,'pl-data'!$A:$BR,23+L$3) -> 896.64036 | M6: =IFERROR(L6/K6-1,"n/a") -> 0.0048543689 | N6: =IFERROR(L6/J6-1,"n/a") -> 0.035 | P6: =-VLOOKUP($A6,'pl-data'!$A:$BR,8+P$3) -> 866.31919 | Q6: =-VLOOKUP($A6,'pl-data'!$A:$BR,38+Q$3) -> 892.30876 | R6: =-VLOOKUP($A6,'pl-data'!$A:$BR,23+R$3) -> 896.64036 | S6: =IFERROR(R6/Q6-1,"n/a") -> 0.0048543689 | T6: =IFERROR(R6/P6-1,"n/a") -> 0.035 | V6: =-VLOOKUP($A6,'pl-data'!$A:$BR,8+V$3) -> 866.31919 | W6: =-VLOOKUP($A6,'pl-data'!$A:$BR,38+W$3) -> 892.30876 | X6: =-VLOOKUP($A6,'pl-data'!$A:$BR,23+X$3) -> 896.64036 | Y6: =IFERROR(X6/W6-1,"n/a") -> 0.0048543689 | Z6: =IFERROR(X6/V6-1,"n/a") -> 0.035 | AB6: =-VLOOKUP($A6,'pl-data'!$A:$BR,8+AB$3) -> 866.31919 | AC6: =-VLOOKUP($A6,'pl-data'!$A:$BR,38+AC$3) -> 892.30876 | AD6: =-VLOOKUP($A6,'pl-data'!$A:$BR,23+AD$3) -> 896.64036 | AE6: =IFERROR(AD6/AC6-1,"n/a") -> 0.0048543689 | AF6: =IFERROR(AD6/AB6-1,"n/a") -> 0.035 | AH6: =-VLOOKUP($A6,'pl-data'!$A:$BR,8+AH$3) -> 866.31919 | AI6: =-VLOOKUP($A6,'pl-data'!$A:$BR,38+AI$3) -> 892.30876 | AJ6: =-VLOOKUP($A6,'pl-data'!$A:$BR,23+AJ$3) -> 896.64036 | AK6: =IFERROR(AJ6/AI6-1,"n/a") -> 0.0048543689 | AL6: =IFERROR(AJ6/AH6-1,"n/a") -> 0.035 | AN6: =-VLOOKUP($A6,'pl-data'!$A:$BR,8+AN$3) -> 866.31919 | AO6: =-VLOOKUP($A6,'pl-data'!$A:$BR,38+AO$3) -> 892.30876 | AP6: =-VLOOKUP($A6,'pl-data'!$A:$BR,23+AP$3) -> 896.64036 | AQ6: =IFERROR(AP6/AO6-1,"n/a") -> 0.0048543689 | AR6: =IFERROR(AP6/AN6-1,"n/a") -> 0.035 | AT6: =-VLOOKUP($A6,'pl-data'!$A:$BR,8+AT$3) -> 866.31919 | AU6: =-VLOOKUP($A6,'pl-data'!$A:$BR,38+AU$3) -> 892.30876 | AV6: =-VLOOKUP($A6,'pl-data'!$A:$BR,23+AV$3) -> 896.64036 | AW6: =IFERROR(AV6/AU6-1,"n/a") -> 0.0048543689 | AX6: =IFERROR(AV6/AT6-1,"n/a") -> 0.035 | AZ6: =-VLOOKUP($A6,'pl-data'!$A:$BR,8+AZ$3) -> 866.31919 | BA6: =-VLOOKUP($A6,'pl-data'!$A:$BR,38+BA$3) -> 892.30876 | BB6: =-VLOOKUP($A6,'pl-data'!$A:$BR,23+BB$3) -> 896.64036 | BC6: =IFERROR(BB6/BA6-1,"n/a") -> 0.0048543689 | BD6: =IFERROR(BB6/AZ6-1,"n/a") -> 0.035 | BF6: =-VLOOKUP($A6,'pl-data'!$A:$BR,8+BF$3) -> 866.31919 | BG6: =-VLOOKUP($A6,'pl-data'!$A:$BR,38+BG$3) -> 892.30876 | BH6: =-VLOOKUP($A6,'pl-data'!$A:$BR,23+BH$3) -> 896.64036 | BI6: =IFERROR(BH6/BG6-1,"n/a") -> 0.0048543689 | BJ6: =IFERROR(BH6/BF6-1,"n/a") -> 0.035 | BL6: =-VLOOKUP($A6,'pl-data'!$A:$BR,8+BL$3) -> 866.31919 | BM6: =-VLOOKUP($A6,'pl-data'!$A:$BR,38+BM$3) -> 892.30876 | BN6: =-VLOOKUP($A6,'pl-data'!$A:$BR,23+BN$3) -> 896.64036 | BO6: =IFERROR(BN6/BM6-1,"n/a") -> 0.0048543689 | BP6: =IFERROR(BN6/BL6-1,"n/a") -> 0.035 | BR6: =-VLOOKUP($A6,'pl-data'!$A:$BR,8+BR$3) -> 866.31919 | BS6: =-VLOOKUP($A6,'pl-data'!$A:$BR,38+BS$3) -> 892.30876 | BT6: =-VLOOKUP($A6,'pl-data'!$A:$BR,23+BT$3) -> 896.64036 | BU6: =IFERROR(BT6/BS6-1,"n/a") -> 0.0048543689 | BV6: =IFERROR(BT6/BR6-1,"n/a") -> 0.035 | BX6: =+BR6+BL6+BF6+AZ6+AT6+AN6+AH6+AB6+V6+P6+J6+D6 -> 10395.83 | BY6: =+BS6+BM6+BG6+BA6+AU6+AO6+AI6+AC6+W6+Q6+K6+E6 -> 10707.705 | BZ6: =+BT6+BN6+BH6+BB6+AV6+AP6+AJ6+AD6+X6+R6+L6+F6 -> 10759.684 | CA6: =IFERROR(BZ6/BY6-1,"n/a") -> 0.0048543689 | CB6: =IFERROR(BZ6/BX6-1,"n/a") -> 0.035
A7: 8001 | B7: =+masterfile!D1212 -> 8001 Umsatzerlöse Software | D7: =-VLOOKUP($A7,'pl-data'!$A:$BR,8+D$3) -> 0 | E7: =-VLOOKUP($A7,'pl-data'!$A:$BR,38+E$3) -> 0 | F7: =-VLOOKUP($A7,'pl-data'!$A:$BR,23+F$3) -> 0 | G7: =IFERROR(F7/E7-1,"n/a") -> n/a | H7: =IFERROR(F7/D7-1,"n/a") -> n/a | J7: =-VLOOKUP($A7,'pl-data'!$A:$BR,8+J$3) -> 0 | K7: =-VLOOKUP($A7,'pl-data'!$A:$BR,38+K$3) -> 0 | L7: =-VLOOKUP($A7,'pl-data'!$A:$BR,23+L$3) -> 0 | M7: =IFERROR(L7/K7-1,"n/a") -> n/a | N7: =IFERROR(L7/J7-1,"n/a") -> n/a | P7: =-VLOOKUP($A7,'pl-data'!$A:$BR,8+P$3) -> 0 | Q7: =-VLOOKUP($A7,'pl-data'!$A:$BR,38+Q$3) -> 0 | R7: =-VLOOKUP($A7,'pl-data'!$A:$BR,23+R$3) -> 0 | S7: =IFERROR(R7/Q7-1,"n/a") -> n/a | T7: =IFERROR(R7/P7-1,"n/a") -> n/a | V7: =-VLOOKUP($A7,'pl-data'!$A:$BR,8+V$3) -> 0 | W7: =-VLOOKUP($A7,'pl-data'!$A:$BR,38+W$3) -> 0 | X7: =-VLOOKUP($A7,'pl-data'!$A:$BR,23+X$3) -> 0 | Y7: =IFERROR(X7/W7-1,"n/a") -> n/a | Z7: =IFERROR(X7/V7-1,"n/a") -> n/a | AB7: =-VLOOKUP($A7,'pl-data'!$A:$BR,8+AB$3) -> 0 | AC7: =-VLOOKUP($A7,'pl-data'!$A:$BR,38+AC$3) -> 0 | AD7: =-VLOOKUP($A7,'pl-data'!$A:$BR,23+AD$3) -> 0 | AE7: =IFERROR(AD7/AC7-1,"n/a") -> n/a | AF7: =IFERROR(AD7/AB7-1,"n/a") -> n/a | AH7: =-VLOOKUP($A7,'pl-data'!$A:$BR,8+AH$3) -> 0 | AI7: =-VLOOKUP($A7,'pl-data'!$A:$BR,38+AI$3) -> 0 | AJ7: =-VLOOKUP($A7,'pl-data'!$A:$BR,23+AJ$3) -> 0 | AK7: =IFERROR(AJ7/AI7-1,"n/a") -> n/a | AL7: =IFERROR(AJ7/AH7-1,"n/a") -> n/a | AN7: =-VLOOKUP($A7,'pl-data'!$A:$BR,8+AN$3) -> 0 | AO7: =-VLOOKUP($A7,'pl-data'!$A:$BR,38+AO$3) -> 0 | AP7: =-VLOOKUP($A7,'pl-data'!$A:$BR,23+AP$3) -> 0 | AQ7: =IFERROR(AP7/AO7-1,"n/a") -> n/a | AR7: =IFERROR(AP7/AN7-1,"n/a") -> n/a | AT7: =-VLOOKUP($A7,'pl-data'!$A:$BR,8+AT$3) -> 0 | AU7: =-VLOOKUP($A7,'pl-data'!$A:$BR,38+AU$3) -> 0 | AV7: =-VLOOKUP($A7,'pl-data'!$A:$BR,23+AV$3) -> 0 | AW7: =IFERROR(AV7/AU7-1,"n/a") -> n/a | AX7: =IFERROR(AV7/AT7-1,"n/a") -> n/a | AZ7: =-VLOOKUP($A7,'pl-data'!$A:$BR,8+AZ$3) -> 0 | BA7: =-VLOOKUP($A7,'pl-data'!$A:$BR,38+BA$3) -> 0 | BB7: =-VLOOKUP($A7,'pl-data'!$A:$BR,23+BB$3) -> 0 | BC7: =IFERROR(BB7/BA7-1,"n/a") -> n/a | BD7: =IFERROR(BB7/AZ7-1,"n/a") -> n/a | BF7: =-VLOOKUP($A7,'pl-data'!$A:$BR,8+BF$3) -> 0 | BG7: =-VLOOKUP($A7,'pl-data'!$A:$BR,38+BG$3) -> 0 | BH7: =-VLOOKUP($A7,'pl-data'!$A:$BR,23+BH$3) -> 0 | BI7: =IFERROR(BH7/BG7-1,"n/a") -> n/a | BJ7: =IFERROR(BH7/BF7-1,"n/a") -> n/a | BL7: =-VLOOKUP($A7,'pl-data'!$A:$BR,8+BL$3) -> 0 | BM7: =-VLOOKUP($A7,'pl-data'!$A:$BR,38+BM$3) -> 0 | BN7: =-VLOOKUP($A7,'pl-data'!$A:$BR,23+BN$3) -> 0 | BO7: =IFERROR(BN7/BM7-1,"n/a") -> n/a | BP7: =IFERROR(BN7/BL7-1,"n/a") -> n/a | BR7: =-VLOOKUP($A7,'pl-data'!$A:$BR,8+BR$3) -> 0 | BS7: =-VLOOKUP($A7,'pl-data'!$A:$BR,38+BS$3) -> 0 | BT7: =-VLOOKUP($A7,'pl-data'!$A:$BR,23+BT$3) -> 0 | BU7: =IFERROR(BT7/BS7-1,"n/a") -> n/a | BV7: =IFERROR(BT7/BR7-1,"n/a") -> n/a | BX7: =+BR7+BL7+BF7+AZ7+AT7+AN7+AH7+AB7+V7+P7+J7+D7 -> 0 | BY7: =+BS7+BM7+BG7+BA7+AU7+AO7+AI7+AC7+W7+Q7+K7+E7 -> 0 | BZ7: =+BT7+BN7+BH7+BB7+AV7+AP7+AJ7+AD7+X7+R7+L7+F7 -> 0 | CA7: =IFERROR(BZ7/BY7-1,"n/a") -> n/a | CB7: =IFERROR(BZ7/BX7-1,"n/a") -> n/a
A8: 8002 | B8: =+masterfile!D1213 -> 8002 Umsatzerlöse Customization | D8: =-VLOOKUP($A8,'pl-data'!$A:$BR,8+D$3) -> 0 | E8: =-VLOOKUP($A8,'pl-data'!$A:$BR,38+E$3) -> 0 | F8: =-VLOOKUP($A8,'pl-data'!$A:$BR,23+F$3) -> 0 | G8: =IFERROR(F8/E8-1,"n/a") -> n/a | H8: =IFERROR(F8/D8-1,"n/a") -> n/a | J8: =-VLOOKUP($A8,'pl-data'!$A:$BR,8+J$3) -> 0 | K8: =-VLOOKUP($A8,'pl-data'!$A:$BR,38+K$3) -> 0 | L8: =-VLOOKUP($A8,'pl-data'!$A:$BR,23+L$3) -> 0 | M8: =IFERROR(L8/K8-1,"n/a") -> n/a | N8: =IFERROR(L8/J8-1,"n/a") -> n/a | P8: =-VLOOKUP($A8,'pl-data'!$A:$BR,8+P$3) -> 0 | Q8: =-VLOOKUP($A8,'pl-data'!$A:$BR,38+Q$3) -> 0 | R8: =-VLOOKUP($A8,'pl-data'!$A:$BR,23+R$3) -> 0 | S8: =IFERROR(R8/Q8-1,"n/a") -> n/a | T8: =IFERROR(R8/P8-1,"n/a") -> n/a | V8: =-VLOOKUP($A8,'pl-data'!$A:$BR,8+V$3) -> 0 | W8: =-VLOOKUP($A8,'pl-data'!$A:$BR,38+W$3) -> 0 | X8: =-VLOOKUP($A8,'pl-data'!$A:$BR,23+X$3) -> 0 | Y8: =IFERROR(X8/W8-1,"n/a") -> n/a | Z8: =IFERROR(X8/V8-1,"n/a") -> n/a | AB8: =-VLOOKUP($A8,'pl-data'!$A:$BR,8+AB$3) -> 0 | AC8: =-VLOOKUP($A8,'pl-data'!$A:$BR,38+AC$3) -> 0 | AD8: =-VLOOKUP($A8,'pl-data'!$A:$BR,23+AD$3) -> 0 | AE8: =IFERROR(AD8/AC8-1,"n/a") -> n/a | AF8: =IFERROR(AD8/AB8-1,"n/a") -> n/a | AH8: =-VLOOKUP($A8,'pl-data'!$A:$BR,8+AH$3) -> 0 | AI8: =-VLOOKUP($A8,'pl-data'!$A:$BR,38+AI$3) -> 0 | AJ8: =-VLOOKUP($A8,'pl-data'!$A:$BR,23+AJ$3) -> 0 | AK8: =IFERROR(AJ8/AI8-1,"n/a") -> n/a | AL8: =IFERROR(AJ8/AH8-1,"n/a") -> n/a | AN8: =-VLOOKUP($A8,'pl-data'!$A:$BR,8+AN$3) -> 0 | AO8: =-VLOOKUP($A8,'pl-data'!$A:$BR,38+AO$3) -> 0 | AP8: =-VLOOKUP($A8,'pl-data'!$A:$BR,23+AP$3) -> 0 | AQ8: =IFERROR(AP8/AO8-1,"n/a") -> n/a | AR8: =IFERROR(AP8/AN8-1,"n/a") -> n/a | AT8: =-VLOOKUP($A8,'pl-data'!$A:$BR,8+AT$3) -> 0 | AU8: =-VLOOKUP($A8,'pl-data'!$A:$BR,38+AU$3) -> 0 | AV8: =-VLOOKUP($A8,'pl-data'!$A:$BR,23+AV$3) -> 0 | AW8: =IFERROR(AV8/AU8-1,"n/a") -> n/a | AX8: =IFERROR(AV8/AT8-1,"n/a") -> n/a | AZ8: =-VLOOKUP($A8,'pl-data'!$A:$BR,8+AZ$3) -> 0 | BA8: =-VLOOKUP($A8,'pl-data'!$A:$BR,38+BA$3) -> 0 | BB8: =-VLOOKUP($A8,'pl-data'!$A:$BR,23+BB$3) -> 0 | BC8: =IFERROR(BB8/BA8-1,"n/a") -> n/a | BD8: =IFERROR(BB8/AZ8-1,"n/a") -> n/a | BF8: =-VLOOKUP($A8,'pl-data'!$A:$BR,8+BF$3) -> 0 | BG8: =-VLOOKUP($A8,'pl-data'!$A:$BR,38+BG$3) -> 0 | BH8: =-VLOOKUP($A8,'pl-data'!$A:$BR,23+BH$3) -> 0 | BI8: =IFERROR(BH8/BG8-1,"n/a") -> n/a | BJ8: =IFERROR(BH8/BF8-1,"n/a") -> n/a | BL8: =-VLOOKUP($A8,'pl-data'!$A:$BR,8+BL$3) -> 0 | BM8: =-VLOOKUP($A8,'pl-data'!$A:$BR,38+BM$3) -> 0 | BN8: =-VLOOKUP($A8,'pl-data'!$A:$BR,23+BN$3) -> 0 | BO8: =IFERROR(BN8/BM8-1,"n/a") -> n/a | BP8: =IFERROR(BN8/BL8-1,"n/a") -> n/a | BR8: =-VLOOKUP($A8,'pl-data'!$A:$BR,8+BR$3) -> 0 | BS8: =-VLOOKUP($A8,'pl-data'!$A:$BR,38+BS$3) -> 0 | BT8: =-VLOOKUP($A8,'pl-data'!$A:$BR,23+BT$3) -> 0 | BU8: =IFERROR(BT8/BS8-1,"n/a") -> n/a | BV8: =IFERROR(BT8/BR8-1,"n/a") -> n/a | BX8: =+BR8+BL8+BF8+AZ8+AT8+AN8+AH8+AB8+V8+P8+J8+D8 -> 0 | BY8: =+BS8+BM8+BG8+BA8+AU8+AO8+AI8+AC8+W8+Q8+K8+E8 -> 0 | BZ8: =+BT8+BN8+BH8+BB8+AV8+AP8+AJ8+AD8+X8+R8+L8+F8 -> 0 | CA8: =IFERROR(BZ8/BY8-1,"n/a") -> n/a | CB8: =IFERROR(BZ8/BX8-1,"n/a") -> n/a
A9: 8003 | B9: =+masterfile!D1214 -> 8003 Umsatzerlöse Schulung, Wartung & Support | D9: =-VLOOKUP($A9,'pl-data'!$A:$BR,8+D$3) -> 0 | E9: =-VLOOKUP($A9,'pl-data'!$A:$BR,38+E$3) -> 0 | F9: =-VLOOKUP($A9,'pl-data'!$A:$BR,23+F$3) -> 0 | G9: =IFERROR(F9/E9-1,"n/a") -> n/a | H9: =IFERROR(F9/D9-1,"n/a") -> n/a | J9: =-VLOOKUP($A9,'pl-data'!$A:$BR,8+J$3) -> 0 | K9: =-VLOOKUP($A9,'pl-data'!$A:$BR,38+K$3) -> 0 | L9: =-VLOOKUP($A9,'pl-data'!$A:$BR,23+L$3) -> 0 | M9: =IFERROR(L9/K9-1,"n/a") -> n/a | N9: =IFERROR(L9/J9-1,"n/a") -> n/a | P9: =-VLOOKUP($A9,'pl-data'!$A:$BR,8+P$3) -> 0 | Q9: =-VLOOKUP($A9,'pl-data'!$A:$BR,38+Q$3) -> 0 | R9: =-VLOOKUP($A9,'pl-data'!$A:$BR,23+R$3) -> 0 | S9: =IFERROR(R9/Q9-1,"n/a") -> n/a | T9: =IFERROR(R9/P9-1,"n/a") -> n/a | V9: =-VLOOKUP($A9,'pl-data'!$A:$BR,8+V$3) -> 0 | W9: =-VLOOKUP($A9,'pl-data'!$A:$BR,38+W$3) -> 0 | X9: =-VLOOKUP($A9,'pl-data'!$A:$BR,23+X$3) -> 0 | Y9: =IFERROR(X9/W9-1,"n/a") -> n/a | Z9: =IFERROR(X9/V9-1,"n/a") -> n/a | AB9: =-VLOOKUP($A9,'pl-data'!$A:$BR,8+AB$3) -> 0 | AC9: =-VLOOKUP($A9,'pl-data'!$A:$BR,38+AC$3) -> 0 | AD9: =-VLOOKUP($A9,'pl-data'!$A:$BR,23+AD$3) -> 0 | AE9: =IFERROR(AD9/AC9-1,"n/a") -> n/a | AF9: =IFERROR(AD9/AB9-1,"n/a") -> n/a | AH9: =-VLOOKUP($A9,'pl-data'!$A:$BR,8+AH$3) -> 0 | AI9: =-VLOOKUP($A9,'pl-data'!$A:$BR,38+AI$3) -> 0 | AJ9: =-VLOOKUP($A9,'pl-data'!$A:$BR,23+AJ$3) -> 0 | AK9: =IFERROR(AJ9/AI9-1,"n/a") -> n/a | AL9: =IFERROR(AJ9/AH9-1,"n/a") -> n/a | AN9: =-VLOOKUP($A9,'pl-data'!$A:$BR,8+AN$3) -> 0 | AO9: =-VLOOKUP($A9,'pl-data'!$A:$BR,38+AO$3) -> 0 | AP9: =-VLOOKUP($A9,'pl-data'!$A:$BR,23+AP$3) -> 0 | AQ9: =IFERROR(AP9/AO9-1,"n/a") -> n/a | AR9: =IFERROR(AP9/AN9-1,"n/a") -> n/a | AT9: =-VLOOKUP($A9,'pl-data'!$A:$BR,8+AT$3) -> 0 | AU9: =-VLOOKUP($A9,'pl-data'!$A:$BR,38+AU$3) -> 0 | AV9: =-VLOOKUP($A9,'pl-data'!$A:$BR,23+AV$3) -> 0 | AW9: =IFERROR(AV9/AU9-1,"n/a") -> n/a | AX9: =IFERROR(AV9/AT9-1,"n/a") -> n/a | AZ9: =-VLOOKUP($A9,'pl-data'!$A:$BR,8+AZ$3) -> 0 | BA9: =-VLOOKUP($A9,'pl-data'!$A:$BR,38+BA$3) -> 0 | BB9: =-VLOOKUP($A9,'pl-data'!$A:$BR,23+BB$3) -> 0 | BC9: =IFERROR(BB9/BA9-1,"n/a") -> n/a | BD9: =IFERROR(BB9/AZ9-1,"n/a") -> n/a | BF9: =-VLOOKUP($A9,'pl-data'!$A:$BR,8+BF$3) -> 0 | BG9: =-VLOOKUP($A9,'pl-data'!$A:$BR,38+BG$3) -> 0 | BH9: =-VLOOKUP($A9,'pl-data'!$A:$BR,23+BH$3) -> 0 | BI9: =IFERROR(BH9/BG9-1,"n/a") -> n/a | BJ9: =IFERROR(BH9/BF9-1,"n/a") -> n/a | BL9: =-VLOOKUP($A9,'pl-data'!$A:$BR,8+BL$3) -> 0 | BM9: =-VLOOKUP($A9,'pl-data'!$A:$BR,38+BM$3) -> 0 | BN9: =-VLOOKUP($A9,'pl-data'!$A:$BR,23+BN$3) -> 0 | BO9: =IFERROR(BN9/BM9-1,"n/a") -> n/a | BP9: =IFERROR(BN9/BL9-1,"n/a") -> n/a | BR9: =-VLOOKUP($A9,'pl-data'!$A:$BR,8+BR$3) -> 0 | BS9: =-VLOOKUP($A9,'pl-data'!$A:$BR,38+BS$3) -> 0 | BT9: =-VLOOKUP($A9,'pl-data'!$A:$BR,23+BT$3) -> 0 | BU9: =IFERROR(BT9/BS9-1,"n/a") -> n/a | BV9: =IFERROR(BT9/BR9-1,"n/a") -> n/a | BX9: =+BR9+BL9+BF9+AZ9+AT9+AN9+AH9+AB9+V9+P9+J9+D9 -> 0 | BY9: =+BS9+BM9+BG9+BA9+AU9+AO9+AI9+AC9+W9+Q9+K9+E9 -> 0 | BZ9: =+BT9+BN9+BH9+BB9+AV9+AP9+AJ9+AD9+X9+R9+L9+F9 -> 0 | CA9: =IFERROR(BZ9/BY9-1,"n/a") -> n/a | CB9: =IFERROR(BZ9/BX9-1,"n/a") -> n/a
A10: 8004 | B10: =+masterfile!D1215 -> 8004 Umsatzerlöse Hardware | D10: =-VLOOKUP($A10,'pl-data'!$A:$BR,8+D$3) -> 0 | E10: =-VLOOKUP($A10,'pl-data'!$A:$BR,38+E$3) -> 0 | F10: =-VLOOKUP($A10,'pl-data'!$A:$BR,23+F$3) -> 0 | G10: =IFERROR(F10/E10-1,"n/a") -> n/a | H10: =IFERROR(F10/D10-1,"n/a") -> n/a | J10: =-VLOOKUP($A10,'pl-data'!$A:$BR,8+J$3) -> 0 | K10: =-VLOOKUP($A10,'pl-data'!$A:$BR,38+K$3) -> 0 | L10: =-VLOOKUP($A10,'pl-data'!$A:$BR,23+L$3) -> 0 | M10: =IFERROR(L10/K10-1,"n/a") -> n/a | N10: =IFERROR(L10/J10-1,"n/a") -> n/a | P10: =-VLOOKUP($A10,'pl-data'!$A:$BR,8+P$3) -> 0 | Q10: =-VLOOKUP($A10,'pl-data'!$A:$BR,38+Q$3) -> 0 | R10: =-VLOOKUP($A10,'pl-data'!$A:$BR,23+R$3) -> 0 | S10: =IFERROR(R10/Q10-1,"n/a") -> n/a | T10: =IFERROR(R10/P10-1,"n/a") -> n/a | V10: =-VLOOKUP($A10,'pl-data'!$A:$BR,8+V$3) -> 0 | W10: =-VLOOKUP($A10,'pl-data'!$A:$BR,38+W$3) -> 0 | X10: =-VLOOKUP($A10,'pl-data'!$A:$BR,23+X$3) -> 0 | Y10: =IFERROR(X10/W10-1,"n/a") -> n/a | Z10: =IFERROR(X10/V10-1,"n/a") -> n/a | AB10: =-VLOOKUP($A10,'pl-data'!$A:$BR,8+AB$3) -> 0 | AC10: =-VLOOKUP($A10,'pl-data'!$A:$BR,38+AC$3) -> 0 | AD10: =-VLOOKUP($A10,'pl-data'!$A:$BR,23+AD$3) -> 0 | AE10: =IFERROR(AD10/AC10-1,"n/a") -> n/a | AF10: =IFERROR(AD10/AB10-1,"n/a") -> n/a | AH10: =-VLOOKUP($A10,'pl-data'!$A:$BR,8+AH$3) -> 0 | AI10: =-VLOOKUP($A10,'pl-data'!$A:$BR,38+AI$3) -> 0 | AJ10: =-VLOOKUP($A10,'pl-data'!$A:$BR,23+AJ$3) -> 0 | AK10: =IFERROR(AJ10/AI10-1,"n/a") -> n/a | AL10: =IFERROR(AJ10/AH10-1,"n/a") -> n/a | AN10: =-VLOOKUP($A10,'pl-data'!$A:$BR,8+AN$3) -> 0 | AO10: =-VLOOKUP($A10,'pl-data'!$A:$BR,38+AO$3) -> 0 | AP10: =-VLOOKUP($A10,'pl-data'!$A:$BR,23+AP$3) -> 0 | AQ10: =IFERROR(AP10/AO10-1,"n/a") -> n/a | AR10: =IFERROR(AP10/AN10-1,"n/a") -> n/a | AT10: =-VLOOKUP($A10,'pl-data'!$A:$BR,8+AT$3) -> 0 | AU10: =-VLOOKUP($A10,'pl-data'!$A:$BR,38+AU$3) -> 0 | AV10: =-VLOOKUP($A10,'pl-data'!$A:$BR,23+AV$3) -> 0 | AW10: =IFERROR(AV10/AU10-1,"n/a") -> n/a | AX10: =IFERROR(AV10/AT10-1,"n/a") -> n/a | AZ10: =-VLOOKUP($A10,'pl-data'!$A:$BR,8+AZ$3) -> 0 | BA10: =-VLOOKUP($A10,'pl-data'!$A:$BR,38+BA$3) -> 0 | BB10: =-VLOOKUP($A10,'pl-data'!$A:$BR,23+BB$3) -> 0 | BC10: =IFERROR(BB10/BA10-1,"n/a") -> n/a | BD10: =IFERROR(BB10/AZ10-1,"n/a") -> n/a | BF10: =-VLOOKUP($A10,'pl-data'!$A:$BR,8+BF$3) -> 0 | BG10: =-VLOOKUP($A10,'pl-data'!$A:$BR,38+BG$3) -> 0 | BH10: =-VLOOKUP($A10,'pl-data'!$A:$BR,23+BH$3) -> 0 | BI10: =IFERROR(BH10/BG10-1,"n/a") -> n/a | BJ10: =IFERROR(BH10/BF10-1,"n/a") -> n/a | BL10: =-VLOOKUP($A10,'pl-data'!$A:$BR,8+BL$3) -> 0 | BM10: =-VLOOKUP($A10,'pl-data'!$A:$BR,38+BM$3) -> 0 | BN10: =-VLOOKUP($A10,'pl-data'!$A:$BR,23+BN$3) -> 0 | BO10: =IFERROR(BN10/BM10-1,"n/a") -> n/a | BP10: =IFERROR(BN10/BL10-1,"n/a") -> n/a | BR10: =-VLOOKUP($A10,'pl-data'!$A:$BR,8+BR$3) -> 0 | BS10: =-VLOOKUP($A10,'pl-data'!$A:$BR,38+BS$3) -> 0 | BT10: =-VLOOKUP($A10,'pl-data'!$A:$BR,23+BT$3) -> 0 | BU10: =IFERROR(BT10/BS10-1,"n/a") -> n/a | BV10: =IFERROR(BT10/BR10-1,"n/a") -> n/a | BX10: =+BR10+BL10+BF10+AZ10+AT10+AN10+AH10+AB10+V10+P10+J10+D10 -> 0 | BY10: =+BS10+BM10+BG10+BA10+AU10+AO10+AI10+AC10+W10+Q10+K10+E10 -> 0 | BZ10: =+BT10+BN10+BH10+BB10+AV10+AP10+AJ10+AD10+X10+R10+L10+F10 -> 0 | CA10: =IFERROR(BZ10/BY10-1,"n/a") -> n/a | CB10: =IFERROR(BZ10/BX10-1,"n/a") -> n/a
A11: 8005 | B11: =+masterfile!D1216 -> 8005 Umsatzerlöse Sonstiges | D11: =-VLOOKUP($A11,'pl-data'!$A:$BR,8+D$3) -> 0 | E11: =-VLOOKUP($A11,'pl-data'!$A:$BR,38+E$3) -> 0 | F11: =-VLOOKUP($A11,'pl-data'!$A:$BR,23+F$3) -> 0 | G11: =IFERROR(F11/E11-1,"n/a") -> n/a | H11: =IFERROR(F11/D11-1,"n/a") -> n/a | J11: =-VLOOKUP($A11,'pl-data'!$A:$BR,8+J$3) -> 0 | K11: =-VLOOKUP($A11,'pl-data'!$A:$BR,38+K$3) -> 0 | L11: =-VLOOKUP($A11,'pl-data'!$A:$BR,23+L$3) -> 0 | M11: =IFERROR(L11/K11-1,"n/a") -> n/a | N11: =IFERROR(L11/J11-1,"n/a") -> n/a | P11: =-VLOOKUP($A11,'pl-data'!$A:$BR,8+P$3) -> 0 | Q11: =-VLOOKUP($A11,'pl-data'!$A:$BR,38+Q$3) -> 0 | R11: =-VLOOKUP($A11,'pl-data'!$A:$BR,23+R$3) -> 0 | S11: =IFERROR(R11/Q11-1,"n/a") -> n/a | T11: =IFERROR(R11/P11-1,"n/a") -> n/a | V11: =-VLOOKUP($A11,'pl-data'!$A:$BR,8+V$3) -> 0 | W11: =-VLOOKUP($A11,'pl-data'!$A:$BR,38+W$3) -> 0 | X11: =-VLOOKUP($A11,'pl-data'!$A:$BR,23+X$3) -> 0 | Y11: =IFERROR(X11/W11-1,"n/a") -> n/a | Z11: =IFERROR(X11/V11-1,"n/a") -> n/a | AB11: =-VLOOKUP($A11,'pl-data'!$A:$BR,8+AB$3) -> 0 | AC11: =-VLOOKUP($A11,'pl-data'!$A:$BR,38+AC$3) -> 0 | AD11: =-VLOOKUP($A11,'pl-data'!$A:$BR,23+AD$3) -> 0 | AE11: =IFERROR(AD11/AC11-1,"n/a") -> n/a | AF11: =IFERROR(AD11/AB11-1,"n/a") -> n/a | AH11: =-VLOOKUP($A11,'pl-data'!$A:$BR,8+AH$3) -> 0 | AI11: =-VLOOKUP($A11,'pl-data'!$A:$BR,38+AI$3) -> 0 | AJ11: =-VLOOKUP($A11,'pl-data'!$A:$BR,23+AJ$3) -> 0 | AK11: =IFERROR(AJ11/AI11-1,"n/a") -> n/a | AL11: =IFERROR(AJ11/AH11-1,"n/a") -> n/a | AN11: =-VLOOKUP($A11,'pl-data'!$A:$BR,8+AN$3) -> 0 | AO11: =-VLOOKUP($A11,'pl-data'!$A:$BR,38+AO$3) -> 0 | AP11: =-VLOOKUP($A11,'pl-data'!$A:$BR,23+AP$3) -> 0 | AQ11: =IFERROR(AP11/AO11-1,"n/a") -> n/a | AR11: =IFERROR(AP11/AN11-1,"n/a") -> n/a | AT11: =-VLOOKUP($A11,'pl-data'!$A:$BR,8+AT$3) -> 0 | AU11: =-VLOOKUP($A11,'pl-data'!$A:$BR,38+AU$3) -> 0 | AV11: =-VLOOKUP($A11,'pl-data'!$A:$BR,23+AV$3) -> 0 | AW11: =IFERROR(AV11/AU11-1,"n/a") -> n/a | AX11: =IFERROR(AV11/AT11-1,"n/a") -> n/a | AZ11: =-VLOOKUP($A11,'pl-data'!$A:$BR,8+AZ$3) -> 0 | BA11: =-VLOOKUP($A11,'pl-data'!$A:$BR,38+BA$3) -> 0 | BB11: =-VLOOKUP($A11,'pl-data'!$A:$BR,23+BB$3) -> 0 | BC11: =IFERROR(BB11/BA11-1,"n/a") -> n/a | BD11: =IFERROR(BB11/AZ11-1,"n/a") -> n/a | BF11: =-VLOOKUP($A11,'pl-data'!$A:$BR,8+BF$3) -> 0 | BG11: =-VLOOKUP($A11,'pl-data'!$A:$BR,38+BG$3) -> 0 | BH11: =-VLOOKUP($A11,'pl-data'!$A:$BR,23+BH$3) -> 0 | BI11: =IFERROR(BH11/BG11-1,"n/a") -> n/a | BJ11: =IFERROR(BH11/BF11-1,"n/a") -> n/a | BL11: =-VLOOKUP($A11,'pl-data'!$A:$BR,8+BL$3) -> 0 | BM11: =-VLOOKUP($A11,'pl-data'!$A:$BR,38+BM$3) -> 0 | BN11: =-VLOOKUP($A11,'pl-data'!$A:$BR,23+BN$3) -> 0 | BO11: =IFERROR(BN11/BM11-1,"n/a") -> n/a | BP11: =IFERROR(BN11/BL11-1,"n/a") -> n/a | BR11: =-VLOOKUP($A11,'pl-data'!$A:$BR,8+BR$3) -> 0 | BS11: =-VLOOKUP($A11,'pl-data'!$A:$BR,38+BS$3) -> 0 | BT11: =-VLOOKUP($A11,'pl-data'!$A:$BR,23+BT$3) -> 0 | BU11: =IFERROR(BT11/BS11-1,"n/a") -> n/a | BV11: =IFERROR(BT11/BR11-1,"n/a") -> n/a | BX11: =+BR11+BL11+BF11+AZ11+AT11+AN11+AH11+AB11+V11+P11+J11+D11 -> 0 | BY11: =+BS11+BM11+BG11+BA11+AU11+AO11+AI11+AC11+W11+Q11+K11+E11 -> 0 | BZ11: =+BT11+BN11+BH11+BB11+AV11+AP11+AJ11+AD11+X11+R11+L11+F11 -> 0 | CA11: =IFERROR(BZ11/BY11-1,"n/a") -> n/a | CB11: =IFERROR(BZ11/BX11-1,"n/a") -> n/a
A12: 8006 | B12: =+masterfile!D1217 -> 8006 Umsatzerlöse | D12: =-VLOOKUP($A12,'pl-data'!$A:$BR,8+D$3) -> 0 | E12: =-VLOOKUP($A12,'pl-data'!$A:$BR,38+E$3) -> 0 | F12: =-VLOOKUP($A12,'pl-data'!$A:$BR,23+F$3) -> 0 | G12: =IFERROR(F12/E12-1,"n/a") -> n/a | H12: =IFERROR(F12/D12-1,"n/a") -> n/a | J12: =-VLOOKUP($A12,'pl-data'!$A:$BR,8+J$3) -> 0 | K12: =-VLOOKUP($A12,'pl-data'!$A:$BR,38+K$3) -> 0 | L12: =-VLOOKUP($A12,'pl-data'!$A:$BR,23+L$3) -> 0 | M12: =IFERROR(L12/K12-1,"n/a") -> n/a | N12: =IFERROR(L12/J12-1,"n/a") -> n/a | P12: =-VLOOKUP($A12,'pl-data'!$A:$BR,8+P$3) -> 0 | Q12: =-VLOOKUP($A12,'pl-data'!$A:$BR,38+Q$3) -> 0 | R12: =-VLOOKUP($A12,'pl-data'!$A:$BR,23+R$3) -> 0 | S12: =IFERROR(R12/Q12-1,"n/a") -> n/a | T12: =IFERROR(R12/P12-1,"n/a") -> n/a | V12: =-VLOOKUP($A12,'pl-data'!$A:$BR,8+V$3) -> 0 | W12: =-VLOOKUP($A12,'pl-data'!$A:$BR,38+W$3) -> 0 | X12: =-VLOOKUP($A12,'pl-data'!$A:$BR,23+X$3) -> 0 | Y12: =IFERROR(X12/W12-1,"n/a") -> n/a | Z12: =IFERROR(X12/V12-1,"n/a") -> n/a | AB12: =-VLOOKUP($A12,'pl-data'!$A:$BR,8+AB$3) -> 0 | AC12: =-VLOOKUP($A12,'pl-data'!$A:$BR,38+AC$3) -> 0 | AD12: =-VLOOKUP($A12,'pl-data'!$A:$BR,23+AD$3) -> 0 | AE12: =IFERROR(AD12/AC12-1,"n/a") -> n/a | AF12: =IFERROR(AD12/AB12-1,"n/a") -> n/a | AH12: =-VLOOKUP($A12,'pl-data'!$A:$BR,8+AH$3) -> 0 | AI12: =-VLOOKUP($A12,'pl-data'!$A:$BR,38+AI$3) -> 0 | AJ12: =-VLOOKUP($A12,'pl-data'!$A:$BR,23+AJ$3) -> 0 | AK12: =IFERROR(AJ12/AI12-1,"n/a") -> n/a | AL12: =IFERROR(AJ12/AH12-1,"n/a") -> n/a | AN12: =-VLOOKUP($A12,'pl-data'!$A:$BR,8+AN$3) -> 0 | AO12: =-VLOOKUP($A12,'pl-data'!$A:$BR,38+AO$3) -> 0 | AP12: =-VLOOKUP($A12,'pl-data'!$A:$BR,23+AP$3) -> 0 | AQ12: =IFERROR(AP12/AO12-1,"n/a") -> n/a | AR12: =IFERROR(AP12/AN12-1,"n/a") -> n/a | AT12: =-VLOOKUP($A12,'pl-data'!$A:$BR,8+AT$3) -> 0 | AU12: =-VLOOKUP($A12,'pl-data'!$A:$BR,38+AU$3) -> 0 | AV12: =-VLOOKUP($A12,'pl-data'!$A:$BR,23+AV$3) -> 0 | AW12: =IFERROR(AV12/AU12-1,"n/a") -> n/a | AX12: =IFERROR(AV12/AT12-1,"n/a") -> n/a | AZ12: =-VLOOKUP($A12,'pl-data'!$A:$BR,8+AZ$3) -> 0 | BA12: =-VLOOKUP($A12,'pl-data'!$A:$BR,38+BA$3) -> 0 | BB12: =-VLOOKUP($A12,'pl-data'!$A:$BR,23+BB$3) -> 0 | BC12: =IFERROR(BB12/BA12-1,"n/a") -> n/a | BD12: =IFERROR(BB12/AZ12-1,"n/a") -> n/a | BF12: =-VLOOKUP($A12,'pl-data'!$A:$BR,8+BF$3) -> 0 | BG12: =-VLOOKUP($A12,'pl-data'!$A:$BR,38+BG$3) -> 0 | BH12: =-VLOOKUP($A12,'pl-data'!$A:$BR,23+BH$3) -> 0 | BI12: =IFERROR(BH12/BG12-1,"n/a") -> n/a | BJ12: =IFERROR(BH12/BF12-1,"n/a") -> n/a | BL12: =-VLOOKUP($A12,'pl-data'!$A:$BR,8+BL$3) -> 0 | BM12: =-VLOOKUP($A12,'pl-data'!$A:$BR,38+BM$3) -> 0 | BN12: =-VLOOKUP($A12,'pl-data'!$A:$BR,23+BN$3) -> 0 | BO12: =IFERROR(BN12/BM12-1,"n/a") -> n/a | BP12: =IFERROR(BN12/BL12-1,"n/a") -> n/a | BR12: =-VLOOKUP($A12,'pl-data'!$A:$BR,8+BR$3) -> 0 | BS12: =-VLOOKUP($A12,'pl-data'!$A:$BR,38+BS$3) -> 0 | BT12: =-VLOOKUP($A12,'pl-data'!$A:$BR,23+BT$3) -> 0 | BU12: =IFERROR(BT12/BS12-1,"n/a") -> n/a | BV12: =IFERROR(BT12/BR12-1,"n/a") -> n/a | BX12: =+BR12+BL12+BF12+AZ12+AT12+AN12+AH12+AB12+V12+P12+J12+D12 -> 0 | BY12: =+BS12+BM12+BG12+BA12+AU12+AO12+AI12+AC12+W12+Q12+K12+E12 -> 0 | BZ12: =+BT12+BN12+BH12+BB12+AV12+AP12+AJ12+AD12+X12+R12+L12+F12 -> 0 | CA12: =IFERROR(BZ12/BY12-1,"n/a") -> n/a | CB12: =IFERROR(BZ12/BX12-1,"n/a") -> n/a
